BEGIN:VCALENDAR
VERSION:2.0
PRODID:-//ChamberMaster//Event Calendar 2.0//EN
METHOD:PUBLISH
X-PUBLISHED-TTL:P3D
REFRESH-INTERVAL:P3D
CALSCALE:GREGORIAN
BEGIN:VEVENT
DTSTART:20171115T000000Z
DTEND:20171115T010000Z
X-MICROSOFT-CDO-ALLDAYEVENT:FALSE
SUMMARY:Adulting Series: Responsible Pet Ownership
DESCRIPTION:Come to Fairmount for a series of courses that will help you master basic how-to's. The program is designed especially with Millennials in mind\, but all those interested are welcome. \n\n\n\nRegistration Required!\n\nVisit website and click on the "Register" button in upper right corner!
X-ALT-DESC;FMTTYPE=text/html:Come to Fairmount for a series of courses that will help you master basic how-to&#39\;s. The program is designed especially with Millennials in mind\, but all those interested are welcome.&nbsp\;<br />\n<br />\n<strong>Registration Required!</strong><br />\nVisit website and click on the &quot\;Register&quot\; button in upper right corner!<br />\n&nbsp\;
LOCATION:3000 N. Fairmount St. Davenport\, Iowa 52804
UID:e.2843.6317
SEQUENCE:3
DTSTAMP:20260423T210356Z
URL:https://member.quadcitieschamber.com/events/details/adulting-series-responsible-pet-ownership-6317
END:VEVENT

END:VCALENDAR
