BEGIN:VCALENDAR
VERSION:2.0
PRODID:-//ChamberMaster//Event Calendar 2.0//EN
METHOD:PUBLISH
X-PUBLISHED-TTL:P3D
REFRESH-INTERVAL:P3D
CALSCALE:GREGORIAN
BEGIN:VEVENT
DTSTART:20120201T160000Z
DTEND:20120201T180000Z
X-MICROSOFT-CDO-ALLDAYEVENT:FALSE
SUMMARY:Advantage Illinois - State Small Business Credit Initiative
DESCRIPTION:Advantage Illinois - State Small Business Credit Initiative New programs are now available to help accelerate investments and ease the credit crunch for small businesses thanks to more than $78 million from the federal State Small Business Credit Initiative (SSBCI) of the Small Business Jobs Act of 2010.  Illinois expects to generate a minimum return on investment of $10 in new private lending for every $1 of federal funding through this program\, meaning at least $800 million in private dollars pumped into the economy to grow the small business sector. Learn how these new programs - Capital Access Program\, Participation Loan Program\, Collateral Support Program and Invest Illinois Venture Fund - can help your clients.
X-ALT-DESC;FMTTYPE=text/html:<P style="MARGIN: 0in 0in 0pt"><STRONG><SPAN style="FONT-FAMILY: 'Arial Black'\,'sans-serif'\; FONT-SIZE: 16pt"><FONT size=3 face=Arial>Advantage Illinois - State Small Business Credit Initiative</FONT></SPAN></STRONG></P><P style="MARGIN: 0in 0in 0pt"><SPAN style="FONT-FAMILY: 'Arial'\,'sans-serif'\; FONT-SIZE: 10pt"></SPAN>&nbsp\;</P><P style="MARGIN: 0in 0in 0pt"><SPAN style="FONT-FAMILY: 'Arial'\,'sans-serif'\; FONT-SIZE: 10pt">New programs are now available to help accelerate investments and ease the credit crunch for small businesses thanks to more than $78 million from the federal State Small Business Credit Initiative (SSBCI) of the Small Business Jobs Act of 2010.&nbsp\;</SPAN></P><P style="MARGIN: 0in 0in 0pt"><SPAN style="FONT-FAMILY: 'Arial'\,'sans-serif'\; FONT-SIZE: 10pt"><FONT size=2></FONT></SPAN>&nbsp\;</P><P style="MARGIN: 0in 0in 0pt"><SPAN style="FONT-FAMILY: 'Arial'\,'sans-serif'\; FONT-SIZE: 10pt">Illinois expects to generate a minimum return on investment of <SPAN style="FONT-FAMILY: 'Arial'\,'sans-serif'">$10 in new private lending for every $1 of federal funding through this program</SPAN>\, meaning at least $800 million in private dollars pumped into the economy to grow the small business sector.</SPAN></P><P style="MARGIN: 0in 0in 0pt"><FONT size=2></FONT>&nbsp\;</P><P style="MARGIN: 0in 0in 0pt"><SPAN style="FONT-FAMILY: 'Arial'\,'sans-serif'\; FONT-SIZE: 10pt">Learn how these new programs - Capital Access Program\, Participation Loan Program\, Collateral Support Program and Invest Illinois Venture Fund - can help your clients.&nbsp\;</SPAN></P><DIV>&nbsp\;</DIV>
LOCATION:Western Illinois University Quad Cities River Front Campus3300 River Drive Moline\, IL 61265
UID:e.2843.343
SEQUENCE:3
DTSTAMP:20260422T080639Z
URL:https://member.quadcitieschamber.com/events/details/advantage-illinois-state-small-business-credit-initiative-02-01-2012-343
END:VEVENT

END:VCALENDAR
