BEGIN:VCALENDAR
VERSION:2.0
PRODID:-//ChamberMaster//Event Calendar 2.0//EN
METHOD:PUBLISH
X-PUBLISHED-TTL:P3D
REFRESH-INTERVAL:P3D
CALSCALE:GREGORIAN
BEGIN:VEVENT
DTSTART:20140101T060000Z
DTEND:20141231T060000Z
X-MICROSOFT-CDO-ALLDAYEVENT:FALSE
SUMMARY:Advertising Bundles
DESCRIPTION:Advertising Bundles
X-ALT-DESC;FMTTYPE=text/html:Advertising Bundles
LOCATION:Quad Cities Chamber of Commerce
UID:e.2843.1940
SEQUENCE:3
DTSTAMP:20260422T012923Z
URL:https://member.quadcitieschamber.com/events/details/advertising-bundles-01-01-2014-1940
END:VEVENT

END:VCALENDAR
