BEGIN:VCALENDAR
VERSION:2.0
PRODID:-//ChamberMaster//Event Calendar 2.0//EN
METHOD:PUBLISH
X-PUBLISHED-TTL:P3D
REFRESH-INTERVAL:P3D
CALSCALE:GREGORIAN
BEGIN:VEVENT
DTSTART:20111001T050000Z
DTEND:20121201T060000Z
X-MICROSOFT-CDO-ALLDAYEVENT:FALSE
SUMMARY:Advertising: Bundles - (Chamber) Communications
DESCRIPTION:Advertising: Bundles - (Chamber) Communications
X-ALT-DESC;FMTTYPE=text/html:Advertising: Bundles - (Chamber) Communications
LOCATION:Quad Cities Chamber
UID:e.2843.4425
SEQUENCE:3
DTSTAMP:20260421T134541Z
URL:https://member.quadcitieschamber.com/events/details/advertising-bundles-chamber-communications-10-01-2011-4425
END:VEVENT

END:VCALENDAR
