BEGIN:VCALENDAR
VERSION:2.0
PRODID:-//ChamberMaster//Event Calendar 2.0//EN
METHOD:PUBLISH
X-PUBLISHED-TTL:P3D
REFRESH-INTERVAL:P3D
CALSCALE:GREGORIAN
BEGIN:VEVENT
DTSTART:20121001T050000Z
DTEND:20131231T060000Z
X-MICROSOFT-CDO-ALLDAYEVENT:FALSE
SUMMARY:Advertising: Bundles - Chamber Communications
DESCRIPTION:Advertising: Bundles - Chamber Communications
X-ALT-DESC;FMTTYPE=text/html:Advertising: Bundles - Chamber Communications
LOCATION:Quad Cities Chamber of Commerce
UID:e.2843.1681
SEQUENCE:3
DTSTAMP:20260421T103757Z
URL:https://member.quadcitieschamber.com/events/details/advertising-bundles-chamber-communications-10-01-2012-1681
END:VEVENT

END:VCALENDAR
