BEGIN:VCALENDAR
VERSION:2.0
PRODID:-//ChamberMaster//Event Calendar 2.0//EN
METHOD:PUBLISH
X-PUBLISHED-TTL:P3D
REFRESH-INTERVAL:P3D
CALSCALE:GREGORIAN
BEGIN:VEVENT
DTSTART:20111001T050000Z
DTEND:20121201T060000Z
X-MICROSOFT-CDO-ALLDAYEVENT:FALSE
SUMMARY:Advertising: Calendar of Events - Monthly Chamber Mailer
DESCRIPTION:Advertising: Calendar of Events - Monthly Chamber Mailer
X-ALT-DESC;FMTTYPE=text/html:Advertising: Calendar of Events - Monthly Chamber Mailer
LOCATION:Quad Cities Chamber
UID:e.2843.4427
SEQUENCE:3
DTSTAMP:20260421T135104Z
URL:https://member.quadcitieschamber.com/events/details/advertising-calendar-of-events-monthly-chamber-mailer-10-01-2011-4427
END:VEVENT

END:VCALENDAR
