BEGIN:VCALENDAR
VERSION:2.0
PRODID:-//ChamberMaster//Event Calendar 2.0//EN
METHOD:PUBLISH
X-PUBLISHED-TTL:P3D
REFRESH-INTERVAL:P3D
CALSCALE:GREGORIAN
BEGIN:VEVENT
DTSTART:20130101T060000Z
DTEND:20130101T060000Z
X-MICROSOFT-CDO-ALLDAYEVENT:FALSE
SUMMARY:Advertising: Chamber Website
DESCRIPTION:Advertising: Chamber Website
X-ALT-DESC;FMTTYPE=text/html:Advertising: Chamber Website
LOCATION:Quad Cities Chamber of Commerce
UID:e.2843.1683
SEQUENCE:3
DTSTAMP:20260421T120944Z
URL:https://member.quadcitieschamber.com/events/details/advertising-chamber-website-01-01-2013-1683
END:VEVENT

END:VCALENDAR
