BEGIN:VCALENDAR
VERSION:2.0
PRODID:-//ChamberMaster//Event Calendar 2.0//EN
METHOD:PUBLISH
X-PUBLISHED-TTL:P3D
REFRESH-INTERVAL:P3D
CALSCALE:GREGORIAN
BEGIN:VEVENT
DTSTART:20130101T060000Z
DTEND:20130101T060000Z
X-MICROSOFT-CDO-ALLDAYEVENT:FALSE
SUMMARY:Advertising: Electronic (Chamber) Newsletter - ENews
DESCRIPTION:Advertising: Electronic (Chamber) Newsletter - ENews
X-ALT-DESC;FMTTYPE=text/html:Advertising: Electronic (Chamber) Newsletter - ENews
LOCATION:Quad Cities Chamber of Commerce
UID:e.2843.1682
SEQUENCE:3
DTSTAMP:20260421T121515Z
URL:https://member.quadcitieschamber.com/events/details/advertising-electronic-chamber-newsletter-enews-01-01-2013-1682
END:VEVENT

END:VCALENDAR
