BEGIN:VCALENDAR
VERSION:2.0
PRODID:-//ChamberMaster//Event Calendar 2.0//EN
METHOD:PUBLISH
X-PUBLISHED-TTL:P3D
REFRESH-INTERVAL:P3D
CALSCALE:GREGORIAN
BEGIN:VEVENT
DTSTART:20201029T130000Z
DTEND:20201029T210000Z
X-MICROSOFT-CDO-ALLDAYEVENT:FALSE
SUMMARY:Agile Project Management
DESCRIPTION:Participants will learn common principles behind Agile as expressed in the Agile Manifesto and have an opportunity to practice applying agile practices. The class will explore key roles in effectively carrying out an agile project\, how scope and outcomes are progressively defined and created. The class will include activities for participants to practice applying agile ceremonies and tools as they learn the basics of Scrum and Kanban. \n\n\n\nCost includes course materials\, meals\, and 12 PMI Certified PDUs.
X-ALT-DESC;FMTTYPE=text/html:<span style="color:rgb(29\, 33\, 41)\; font-family:helvetica\,arial\,sans-serif\; font-size:14px">Participants will learn common principles behind Agile as expressed in the Agile Manifesto and have an opportunity to practice applying agile practices. The class will explore key roles in effectively carrying out an agile project\, how scope and outcomes are progressively defined and created. The class will include activities for participants to practice applying agile ceremonies and tools as they learn the basics of Scrum and Kanban. </span><br />\n<br />\n<span style="color:rgb(29\, 33\, 41)\; font-family:helvetica\,arial\,sans-serif\; font-size:14px">Cost includes course materials\, meals\, and 12 PMI Certified PDUs.</span>
LOCATION:St. Ambrose University Professional Development Center 1950 E. 54th St. Davenport\, IA 52807
UID:e.2843.17914
SEQUENCE:3
DTSTAMP:20260421T111213Z
URL:https://member.quadcitieschamber.com/events/details/agile-project-management-10-29-2020-17914
END:VEVENT

END:VCALENDAR
