BEGIN:VCALENDAR
VERSION:2.0
PRODID:-//ChamberMaster//Event Calendar 2.0//EN
METHOD:PUBLISH
X-PUBLISHED-TTL:P3D
REFRESH-INTERVAL:P3D
CALSCALE:GREGORIAN
BEGIN:VEVENT
DTSTART:20190430T133000Z
DTEND:20190501T213000Z
X-MICROSOFT-CDO-ALLDAYEVENT:FALSE
SUMMARY:Agile Project Management
DESCRIPTION:Different types of projects need different processes or methodologies to be successful. This class presents how a variety of projects can be better managed by applying agile principles and practices focusing on skills\, communication\, and community which allows the project to be more effective and more agile than just focusing on processes. The class will cover common principles behind agile development as expressed in the Agile Manifesto. Included are topics about the agile triangle as a new way of thinking about performance measurement to encourage agility plus reviewing the role of the agile project leader and the values and principles that drive agile project management.
X-ALT-DESC;FMTTYPE=text/html:Different types of projects need different processes or methodologies to be successful. This class presents how a variety of projects can be better managed by applying agile principles and practices focusing on skills\, communication\, and community which allows the project to be more effective and more agile than just focusing on processes. The class will cover common principles behind agile development as expressed in the Agile Manifesto. Included are topics about the agile triangle as a new way of thinking about performance measurement to encourage agility plus reviewing the role of the agile project leader and the values and principles that drive agile project management.
LOCATION:1950 E. 54th St.\, Davenport\, IA 52807.
UID:e.2843.14297
SEQUENCE:3
DTSTAMP:20260422T162510Z
URL:https://member.quadcitieschamber.com/events/details/agile-project-management-14297
END:VEVENT

END:VCALENDAR
