BEGIN:VCALENDAR
VERSION:2.0
PRODID:-//ChamberMaster//Event Calendar 2.0//EN
METHOD:PUBLISH
X-PUBLISHED-TTL:P3D
REFRESH-INTERVAL:P3D
CALSCALE:GREGORIAN
BEGIN:VEVENT
DTSTART:20120818T160000Z
DTEND:20120818T163000Z
X-MICROSOFT-CDO-ALLDAYEVENT:FALSE
SUMMARY:Aja Styles Boutique Grand Opening/Ribbon Cutting
DESCRIPTION:Please help celebrate the Grand Opening and Ribbon Cutting for Aja Styles Boutique on Saturday\, August 18th at 11:00am.  Located at 1702 3rd Avenue in downtown Rock Island (across from the new Stern Center – formerly Hyman’s Furniture)
X-ALT-DESC;FMTTYPE=text/html:<P style="MARGIN: 0in 0in 0pt" class=MsoNormal><FONT face=Calibri>Please help celebrate the Grand Opening and Ribbon Cutting for Aja Styles Boutique on Saturday\, August 18<SUP>th</SUP> at 11:00am.<SPAN style="mso-spacerun: yes">&nbsp\; </SPAN>Located at 1702 3<SUP>rd</SUP> Avenue in downtown Rock Island (across from the new Stern Center – formerly Hyman’s Furniture)</FONT></P><DIV style="FONT-FAMILY: Arial">&nbsp\;</DIV>
LOCATION:1702 3rd Avenue\, Rock Island
UID:e.2843.416
SEQUENCE:3
DTSTAMP:20260421T202451Z
URL:https://member.quadcitieschamber.com/events/details/aja-styles-boutique-grand-opening-ribbon-cutting-08-18-2012-416
END:VEVENT

END:VCALENDAR
