BEGIN:VCALENDAR
VERSION:2.0
PRODID:-//ChamberMaster//Event Calendar 2.0//EN
METHOD:PUBLISH
X-PUBLISHED-TTL:P3D
REFRESH-INTERVAL:P3D
CALSCALE:GREGORIAN
BEGIN:VEVENT
DTSTART:20140212T203000Z
DTEND:20140212T210000Z
X-MICROSOFT-CDO-ALLDAYEVENT:FALSE
SUMMARY:Alcoa Inc. Ribbon Cutting
DESCRIPTION:Holiday Inn Express Moline –Quad Cities  will host a ribbon cutting ceremony to celebrate the grand opening of their new location on Wednesday\, June 18th at 4pm.  The new hotel will feature 100 upscale rooms\, 10 suites\, state of the art fitness room\, social hub with fireplace\, free smart start breakfast and free Wi-Fi. They are now taking reservations for  arrivals on or after June 20th. If you would like more information\, please click here.
X-ALT-DESC;FMTTYPE=text/html:<FONT face=Calibri><?xml:namespace prefix = o ns = "urn:schemas-microsoft-com:office:office" /><o:p><P style="MARGIN: 0in 0in 0pt" class=MsoNormal>Holiday Inn Express Moline –Quad Cities <SPAN style="mso-spacerun: yes">&nbsp\;</SPAN>will host a ribbon cutting ceremony to celebrate the grand opening of their new location on Wednesday\, June 18<SUP>th</SUP> at 4pm. <o:p></o:p></P><P style="MARGIN: 0in 0in 0pt" class=MsoNormal><o:p>&nbsp\;</o:p></P><P style="MARGIN: 0in 0in 0pt" class=MsoNormal>The new hotel will feature 100 upscale rooms\, 10 suites\, state of the art fitness room\, social hub with fireplace\, free smart start breakfast and free Wi-Fi. They are now taking reservations for <SPAN style="mso-spacerun: yes">&nbsp\;</SPAN>arrivals on or after June 20<SUP>th</SUP>. <o:p></o:p></P><P style="MARGIN: 0in 0in 0pt" class=MsoNormal>If you would like more information\, please <A href="http://www.ihg.com/holidayinnexpress/hotels/us/en/moline/mlike/hoteldetail"><FONT color=#0000ff>click here</FONT></A>. <SPAN style="mso-spacerun: yes">&nbsp\;</SPAN><o:p></o:p></P><P style="MARGIN: 0in 0in 0pt" class=MsoNormal></o:p></FONT>&nbsp\;</P><P style="MARGIN: 0in 0in 0pt" class=MsoNormal><P>&nbsp\;</P><P></P>
LOCATION:Alcoa\, Inc.4879 State Street\, PO Box 3567 Bettendorf\, IA 52722
UID:e.2843.773
SEQUENCE:3
DTSTAMP:20260422T044507Z
URL:https://member.quadcitieschamber.com/events/details/alcoa-inc-ribbon-cutting-02-12-2014-773
END:VEVENT

END:VCALENDAR
