BEGIN:VCALENDAR
VERSION:2.0
PRODID:-//ChamberMaster//Event Calendar 2.0//EN
METHOD:PUBLISH
X-PUBLISHED-TTL:P3D
REFRESH-INTERVAL:P3D
CALSCALE:GREGORIAN
BEGIN:VEVENT
DTSTART:20121116T144500Z
DTEND:20121116T151500Z
X-MICROSOFT-CDO-ALLDAYEVENT:FALSE
SUMMARY:ALDI Grand Opening & Ribbon Cutting
DESCRIPTION:Please help celebrate the grand opening of Aldi in Silvis with a ribbon cutting on Friday\, November 16th at 8:45am.  Located at 1210 18th Street in Silvis – John Deere Road/18th Street *ALDI challenges customers to switch from national brands to its exclusive brands and save up to 50 percent* ALDI stores carry more than 1\,400 items* ALDI stands behind quality with a Double Guarantee: If for any reason a customer is not 100 percent satisfied with a food product\, ALDI will gladly replace the product and refund the customer’s money* 5th location in the Quad Cities* ALDI saves shoppers money by keeping stores open during prime shopping times* ALDI accepts cash\, debit and EBT cards
X-ALT-DESC;FMTTYPE=text/html:<P style="MARGIN: 0in 0in 0pt" class=MsoNormal><FONT face=Calibri>Please help celebrate the grand opening of Aldi in Silvis with a ribbon cutting on Friday\, November 16<SUP>th</SUP> at 8:45am.<SPAN style="mso-spacerun: yes">&nbsp\; </SPAN>Located at 1210 18<SUP>th</SUP> Street in Silvis – John Deere Road/18<SUP>th</SUP> Street</FONT></P><P style="MARGIN: 0in 0in 0pt" class=MsoNormal><?xml:namespace prefix = o ns = "urn:schemas-microsoft-com:office:office" /><o:p><FONT face=Calibri>&nbsp\;</FONT></o:p></P><P style="MARGIN: 0in 0in 0pt" class=MsoNormal><FONT face=Calibri>*ALDI challenges customers to switch from national brands to its exclusive brands and save up to 50 percent</FONT></P><P style="MARGIN: 0in 0in 0pt" class=MsoNormal><FONT face=Calibri>* ALDI stores carry more than 1\,400 items</FONT></P><P style="MARGIN: 0in 0in 0pt" class=MsoNormal><FONT face=Calibri>* ALDI stands behind quality with a Double Guarantee: If for any reason a customer is not 100 percent satisfied with a food product\, ALDI will gladly replace the product and refund the customer’s money</FONT></P><P style="MARGIN: 0in 0in 0pt" class=MsoNormal><FONT face=Calibri>* 5<SUP>th</SUP> location in the Quad Cities</FONT></P><P style="MARGIN: 0in 0in 0pt" class=MsoNormal><FONT face=Calibri>* ALDI saves shoppers money by keeping stores open during prime shopping times</FONT></P><P style="MARGIN: 0in 0in 0pt" class=MsoNormal><FONT face=Calibri>* ALDI accepts cash\, debit and EBT cards</FONT></P><DIV style="FONT-FAMILY: Arial"><FONT face="Times New Roman"></FONT>&nbsp\;</DIV>
LOCATION:Aldi1210 18th Street Silvis\, IL
UID:e.2843.470
SEQUENCE:3
DTSTAMP:20260421T153203Z
URL:https://member.quadcitieschamber.com/events/details/aldi-grand-opening-ribbon-cutting-11-16-2012-470
END:VEVENT

END:VCALENDAR
