BEGIN:VCALENDAR
VERSION:2.0
PRODID:-//ChamberMaster//Event Calendar 2.0//EN
METHOD:PUBLISH
X-PUBLISHED-TTL:P3D
REFRESH-INTERVAL:P3D
CALSCALE:GREGORIAN
BEGIN:VEVENT
DTSTART:20120920T173000Z
DTEND:20120920T180000Z
X-MICROSOFT-CDO-ALLDAYEVENT:FALSE
SUMMARY:Alexander Company/Kerker Lofts Ribbon Cutting
DESCRIPTION:Please help the Alexander Company celebrate the opening of their new Kerker Lofts on Thursday\, September 20\, 2012 at 12:30pm.  Located at 315 E. 5th Street\, Davenport – corner of E. 5th and Iowa St.  The Open House event will run from 11:30am to 1:30pm and involve a catered lunch and tours. For more information\, visit www.alexandercompany.com
X-ALT-DESC;FMTTYPE=text/html:<P style="MARGIN: 0in 0in 0pt" class=MsoNormal><FONT face=Calibri>Please help the Alexander Company celebrate the opening of their new Kerker Lofts on Thursday\, September 20\, 2012 at 12:30pm.<SPAN style="mso-spacerun: yes">&nbsp\; </SPAN>Located at 315 E. 5<SUP>th</SUP> Street\, Davenport – corner of E. 5<SUP>th</SUP> and Iowa St.<SPAN style="mso-spacerun: yes">&nbsp\; </SPAN>The Open House event will run from 11:30am to 1:30pm and involve a catered lunch and tours.</FONT></P><P style="MARGIN: 0in 0in 0pt" class=MsoNormal><?xml:namespace prefix = o ns = "urn:schemas-microsoft-com:office:office" /><o:p><FONT face=Calibri>&nbsp\;</FONT></o:p></P><P style="MARGIN: 0in 0in 0pt" class=MsoNormal><FONT face=Calibri>For more information\, visit </FONT><A href="http://www.alexandercompany.com">www.alexandercompany.com</A></P><DIV style="FONT-FAMILY: Arial">&nbsp\;</DIV>
LOCATION:315 E. 5th Street Davenport\, IA
UID:e.2843.420
SEQUENCE:3
DTSTAMP:20260421T184604Z
URL:https://member.quadcitieschamber.com/events/details/alexander-company-kerker-lofts-ribbon-cutting-09-20-2012-420
END:VEVENT

END:VCALENDAR
