BEGIN:VCALENDAR
VERSION:2.0
PRODID:-//ChamberMaster//Event Calendar 2.0//EN
METHOD:PUBLISH
X-PUBLISHED-TTL:P3D
REFRESH-INTERVAL:P3D
CALSCALE:GREGORIAN
BEGIN:VEVENT
DTSTART:20180602T003000Z
DTEND:20180610T190000Z
X-MICROSOFT-CDO-ALLDAYEVENT:FALSE
SUMMARY:All the Great Books\, Abridged
DESCRIPTION:If you love to read\, you'll love this show! If you hate to read\, you'll love this show! From the group that brought you the Complete Works of William Shakespeare\, Abridged comes this rip-roaring ride through Western Literature. Performers Jackson Green\, Jeremy Mahr\, and Brent Tubbs will teach you everything you need to know about literature in 90 minutes! English class has never been so fun!
X-ALT-DESC;FMTTYPE=text/html:If you love to read\, you&rsquo\;ll love this show! If you hate to read\, you&rsquo\;ll love this show! From the group that brought you the Complete Works of William Shakespeare\, Abridged comes this rip-roaring ride through Western Literature. Performers Jackson Green\, Jeremy Mahr\, and Brent Tubbs will teach you everything you need to know about literature in 90 minutes! English class has never been so fun!&nbsp\;
LOCATION:The Spotlight Theatre 1800 7th Avenue Moline\, IL 61265
UID:e.2843.13279
SEQUENCE:3
DTSTAMP:20260423T091101Z
URL:https://member.quadcitieschamber.com/events/details/all-the-great-books-abridged-13279
END:VEVENT

END:VCALENDAR
