BEGIN:VCALENDAR
VERSION:2.0
PRODID:-//ChamberMaster//Event Calendar 2.0//EN
METHOD:PUBLISH
X-PUBLISHED-TTL:P3D
REFRESH-INTERVAL:P3D
CALSCALE:GREGORIAN
BEGIN:VEVENT
DTSTART:20180421T130000Z
DTEND:20180421T170000Z
X-MICROSOFT-CDO-ALLDAYEVENT:FALSE
SUMMARY:Alter Metal Recycling Earth Day Celebration
DESCRIPTION:Come celebrate Earth Day the Alter Way. Alter Metal Recycling believes in making the Earth a better place through recycling end of life metals! We would like to invite you to our open house Saturday April 21st where we are open 8am   12pm and will have coffee and donuts as well as lunch from 10am to 12pm. Alter is proud to provide a convenient\, clean and friendly location to service everyone's recycling needs. We welcome the opportunity to purchase materials from people with small amounts or full semi loads of material. Alter provides competitive pricing and same day payment for your metal. Thank you for Altering the way you recycle to help us improve the world we live in!
X-ALT-DESC;FMTTYPE=text/html:Come celebrate Earth Day the Alter Way. Alter Metal Recycling believes in making the Earth a better place through recycling end of life metals! We would like to invite you to our open house Saturday April 21st where we are open 8am &ndash\; 12pm and will have coffee and donuts as well as lunch from 10am to 12pm. Alter is proud to provide a convenient\, clean and friendly location to service everyone&rsquo\;s recycling needs. We welcome the opportunity to purchase materials from people with small amounts or full semi loads of material. Alter provides competitive pricing and same day payment for your metal. Thank you for Altering the way you recycle to help us improve the world we live in!
LOCATION:640 Schmidt Rd. Davenport IA 52802
UID:e.2843.12148
SEQUENCE:3
DTSTAMP:20260423T123125Z
URL:https://member.quadcitieschamber.com/events/details/alter-metal-recycling-earth-day-celebration-12148
END:VEVENT

END:VCALENDAR
