BEGIN:VCALENDAR
VERSION:2.0
PRODID:-//ChamberMaster//Event Calendar 2.0//EN
METHOD:PUBLISH
X-PUBLISHED-TTL:P3D
REFRESH-INTERVAL:P3D
CALSCALE:GREGORIAN
BEGIN:VEVENT
DTSTART:20130822T170000Z
DTEND:20130825T220000Z
X-MICROSOFT-CDO-ALLDAYEVENT:FALSE
SUMMARY:Aluminum Can Recycle Fundraiser
DESCRIPTION:Who:  Veterans of Foreign Wars (VFW) Post 9128\, Bettendorf\, IA\nWhat:  Aluminum Can Recycle Fundraiser\nWhen:  August 22nd through 25th \, 2013\nWhere:  VFW Post 9128\, North Parking Lot\, 2814 State St\,Bettendorf\, IA\nWhy:  VFW Post Fundraiser (for local Veteran programs and Post building maintenance)\nGeneral Info:  This is the easiest fundraiser you can participate in and probably the most profitable for our VFW Post.  Donated Cans can be pre-crushed or not.  All cans must be dropped off in plastic bags.  Donations can be dropped off prior to August 22nd by calling the VFW Post (563.355.8528)to arrange day & time for drop-off.  If you have any other questions\, please call 563.355.8528.
X-ALT-DESC;FMTTYPE=text/html:Who:  Veterans of Foreign Wars (VFW) Post 9128\, Bettendorf\, IA\nWhat:  Aluminum Can Recycle Fundraiser\nWhen:  August 22nd through 25th \, 2013\nWhere:  VFW Post 9128\, North Parking Lot\, 2814 State St\,Bettendorf\, IA\nWhy:  VFW Post Fundraiser (for local Veteran programs and Post building maintenance)\nGeneral Info:  This is the easiest fundraiser you can participate in and probably the most profitable for our VFW Post.  Donated Cans can be pre-crushed or not.  All cans must be dropped off in plastic bags.  Donations can be dropped off prior to August 22nd by calling the VFW Post (563.355.8528)to arrange day & time for drop-off.  If you have any other questions\, please call 563.355.8528.\n\n
LOCATION:VFW Post 91282814 State St Bettendorf\, IA 52722
UID:e.2843.61
SEQUENCE:3
DTSTAMP:20260421T165904Z
URL:https://member.quadcitieschamber.com/events/details/aluminum-can-recycle-fundraiser-08-22-2013-61
END:VEVENT

END:VCALENDAR
