BEGIN:VCALENDAR
VERSION:2.0
PRODID:-//ChamberMaster//Event Calendar 2.0//EN
METHOD:PUBLISH
X-PUBLISHED-TTL:P3D
REFRESH-INTERVAL:P3D
CALSCALE:GREGORIAN
BEGIN:VEVENT
DTSTART:20121009T130000Z
DTEND:20121009T133000Z
X-MICROSOFT-CDO-ALLDAYEVENT:FALSE
SUMMARY:American Queen Steamboat Company greeting
DESCRIPTION:Please help greet the American Queen Steamboat Company as they dock for the day in the Quad Cities.  They have contracted with several of our attractions throughout the Quad Cities (Village of East Davenport\, Hotel Blackhawk\, Figge\, QC Botanical Center\, JD Commons & JD Homes) for tours.  The boat also contracts motorcoaches and runs non-stop loops around the QC from 8:30am to 4:00pm to each of the listed designated stops. Passengers who book these Mississippi River Cruises are ready to spend\, are from all over the US and world (California\, New Zealand\, Germany\, Montana – to name a few) and some prefer to wonder around for eight hours\, walking or using taxis verses taking the motorcoach tour to the pre-designated locations.  There are 385-400 passengers per boat stop. Along with this\, the City of Davenport is providing a Dixie Jazz band and putting up welcome banners.  The Quad Cities Convention & Visitors Bureau will have an on-site mobile visitor center at the dock to welcome and assist the passengers with Quad Cities information.
X-ALT-DESC;FMTTYPE=text/html:<DIV style="FONT-FAMILY: Arial"><P style="MARGIN: 0in 0in 0pt" class=MsoNormal><FONT face=Calibri>Please help greet the American Queen Steamboat Company as they dock for the day in the Quad Cities.<SPAN style="mso-spacerun: yes">&nbsp\; </SPAN>They have contracted with several of our attractions throughout the Quad Cities (Village of East Davenport\, Hotel Blackhawk\, Figge\, QC Botanical Center\, JD Commons &amp\; JD Homes) for tours.<SPAN style="mso-spacerun: yes">&nbsp\; </SPAN>The boat also contracts motorcoaches and runs non-stop loops around the QC from 8:30am to 4:00pm to each of the listed designated stops.</FONT></P><P style="MARGIN: 0in 0in 0pt" class=MsoNormal><?xml:namespace prefix = o ns = "urn:schemas-microsoft-com:office:office" /><o:p><FONT face=Calibri>&nbsp\;</FONT></o:p></P><P style="MARGIN: 0in 0in 0pt" class=MsoNormal><FONT face=Calibri>Passengers who book these Mississippi River Cruises are ready to spend\, are from all over the US and world (California\, New Zealand\, Germany\, Montana – to name a few) and some prefer to wonder around for eight hours\, walking or using taxis verses taking the motorcoach tour to the pre-designated locations.<SPAN style="mso-spacerun: yes">&nbsp\; </SPAN>There are 385-400 passengers per boat stop.</FONT></P><P style="MARGIN: 0in 0in 0pt" class=MsoNormal><o:p><FONT face=Calibri>&nbsp\;</FONT></o:p></P><P style="MARGIN: 0in 0in 0pt" class=MsoNormal><FONT face=Calibri>Along with this\, the City of Davenport is providing a Dixie Jazz band and putting up welcome banners.<SPAN style="mso-spacerun: yes">&nbsp\; </SPAN>The Quad Cities Convention &amp\; Visitors Bureau will have an on-site mobile visitor center at the dock to welcome and assist the passengers with Quad Cities information.</FONT></P></DIV>
LOCATION:Oneida Landing
UID:e.2843.449
SEQUENCE:3
DTSTAMP:20260421T171043Z
URL:https://member.quadcitieschamber.com/events/details/american-queen-steamboat-company-greeting-10-09-2012-449
END:VEVENT

END:VCALENDAR
