BEGIN:VCALENDAR
VERSION:2.0
PRODID:-//ChamberMaster//Event Calendar 2.0//EN
METHOD:PUBLISH
X-PUBLISHED-TTL:P3D
REFRESH-INTERVAL:P3D
CALSCALE:GREGORIAN
BEGIN:VEVENT
DTSTART:20180117T133000Z
DTEND:20180117T143000Z
X-MICROSOFT-CDO-ALLDAYEVENT:FALSE
SUMMARY:AMp Up: Advocacy 101 – What is it\, where to start\, and why it matters to your business (January 2018)
DESCRIPTION:In today's political climate\, advocacy has become a bit of a buzzword and many are looking for ways to get engaged in politics to drive change. Would you like to be more active in government affairs but not sure how to start? This month's Amp Up will help.\n\n\n\nOne of the greatest benefits of your Chamber membership is the ability to easily connect with elected officials and opportunities to leverage the power of membership to move the needle on important legislation. As a member of the Quad Cities Chamber\, your business interests are at the top of the Chamber's legislative priorities\, and we advocate for policies that will support growing the Quad Cities economy.\n\n\n\nAs the legislative season is about to begin\, we've brought together a few members to share why advocacy has been important to their business\, best practices when reaching out to legislators\, and how you can utilize the Chamber to be effective in promoting change.\n\n\n\nPanelists include:\n\n\n\nRyan Burchett\, Mississippi River Distilling Company\n\nNasreen Khan\, The Vault Beauty Lounge and Urban Retreat\n\nBill Stoermer\, Exelon\n\n\n\nModerated by: Pryce Boeye\, Hungry Hobo\n\n\n\n\n\nIf you need any special requirements to attend this meeting please contact Gwen Tombergs at gtombergs@quadcitieschamber.com \n\n \n\nIf you are not a current Quad Cities Chamber member and are interested in attending this event\, please contact Gwen Tombergs at (563)823-2688.\n\n\n\n Cancellation Policy:\n\nCancellations must be received at least 72 hours in advance in order to receive a registration refund. You may transfer your registration to another person within your company at no additional cost.
X-ALT-DESC;FMTTYPE=text/html:<span style="font-size:16px\;">In today&rsquo\;s political climate\, advocacy has become a bit of a buzzword and many are looking for ways to get engaged in politics to drive change. Would you like to be more active in government affairs but not sure how to start?<span style="color:#1F497D\;"> </span>This month&rsquo\;s Amp Up will help.<br />\n<br />\nOne of the greatest benefits of your Chamber membership is the ability to easily connect with elected officials and opportunities to leverage the power of membership to move the needle on important legislation. As a member of the Quad Cities Chamber\, your business interests are at the top of the Chamber&rsquo\;s legislative priorities\, and we advocate for policies that will support growing the Quad Cities economy.<br />\n<br />\nAs the legislative season is about to begin\, we&rsquo\;ve brought together a few members to share why advocacy has been important to their business\, best practices when reaching out to legislators\, and how you can utilize the Chamber to be effective in promoting change.<br />\n<br />\nPanelists include:<br />\n<br />\nRyan Burchett\, Mississippi River Distilling Company<br />\nNasreen Khan\, The Vault Beauty Lounge and Urban Retreat<br />\nBill Stoermer\, Exelon<br />\n<br />\nModerated by:&nbsp\;</span>Pryce<span style="font-size: 16px\;">&nbsp\;</span>Boeye<span style="font-size:16px\;">\, Hungry Hobo<br />\n<br />\n<br />\n<span style="font-family:arial\;">If you need any special requirements to attend this meeting please contact Gwen Tombergs at gtombergs@quadcitieschamber.com&nbsp\;</span><br />\n<span style="font-family:arial\,sans-serif\;">&nbsp\;<br />\n<strong>If you are not a current Quad Cities Chamber member and are interested in attending this event\, please contact Gwen</strong>&nbsp\;<strong><span data-scayt-lang="en_US" data-scayt-word="Tombergs" style="background-position:52% 100%\;">Tombergs</span></strong>&nbsp\;<strong>at (563)823-2688.</strong></span><br />\n<br />\n<span style="font-family:arial\;"><u><span style="color:#333333\;">&#8203\;Cancellation&nbsp\;Policy:</span></u><br style="font-family:Arial\;font-size:13px\;" />\n<span style="color:#333333\;">Cancellations&nbsp\;must be received at least 72 hours in advance in order to receive a registration refund. You may transfer your registration to another person within your company at no additional cost.</span></span></span>\n<div>&nbsp\;</div>\n
LOCATION:Jumer's Casino and Hotel 777 Jumer's Drive Rock Island\, IL 61201
UID:e.2843.8638
SEQUENCE:3
DTSTAMP:20260423T183316Z
URL:https://member.quadcitieschamber.com/events/details/amp-up-advocacy-101-what-is-it-where-to-start-and-why-it-matters-to-your-business-january-2018-8638
END:VEVENT

END:VCALENDAR
