BEGIN:VCALENDAR
VERSION:2.0
PRODID:-//ChamberMaster//Event Calendar 2.0//EN
METHOD:PUBLISH
X-PUBLISHED-TTL:P3D
REFRESH-INTERVAL:P3D
CALSCALE:GREGORIAN
BEGIN:VEVENT
DTSTART:20180718T123000Z
DTEND:20180718T133000Z
X-MICROSOFT-CDO-ALLDAYEVENT:FALSE
SUMMARY:AMp Up: An inside look at the development of the TBK Bank Sports Complex
DESCRIPTION:The new TBK Bank Sports Complex spanning across 76 acres in Bettendorf includes baseball fields\, indoor soccer fields\, basketball courts\, sand volleyball\, plus an entertainment facility with bowling\, laser tag\, escape rooms\, and more. The $50 million development is a sports facility like no other in the country but that's not the only thing being built on the land near Middle and Forest Grove roads. Plans and construction are still in the works for a new pair of retail strip malls\, gas station and hotel near the complex.\n\n \n\nJoin us at AMp Up for an inside look as to what's already been built\, what the development means for the community in terms of economic impact\, and what else is in the plans for Bettendorf.\n\n \n\nFeaturing: \n\nDouglas Kratz\, TBK Sports Complex\n\nKevin Koellner\, President\, Build to Suit\, Inc.\n\nMayor Bob Gallagher\, City of Bettendorf\n\n\n\nIf you need any special requirements to attend this meeting please contact Marcy Hyder at Mhyder@quadcitieschamber.com\n\n\n\n Cancellation Policy:\n\nCancellations must be received at least 72 hours in advance in order to receive a registration refund. You may transfer your registration to another person within your company at no additional cost.
X-ALT-DESC;FMTTYPE=text/html:<span style="font-family:arial\,sans-serif\;"><span style="font-size:12.0pt\;">The new TBK Bank Sports Complex spanning across 76 acres in Bettendorf includes baseball fields\, indoor soccer fields\, basketball courts\, sand volleyball\, plus an entertainment facility with bowling\, laser tag\, escape rooms\, and more. The $50 million development is a sports facility like no other in the country but that&rsquo\;s not the only thing being built on the land near Middle and Forest Grove roads. <span style="background:white\;">Plans and construction are still in the works for a new pair of retail strip malls\, gas station and hotel near the complex.</span></span></span><br />\n&nbsp\;<br />\n<span style="font-size:16px\;"><span style="font-family:arial\;">Join us at AMp Up for an inside look as to what&rsquo\;s already been built\, what the development means for the community in terms of economic impact\, and what else is in the plans for Bettendorf.<br />\n&nbsp\;<br />\nFeaturing: </span></span><br />\n<span style="font-family:arial\,sans-serif\;"><span style="font-size:12.0pt\;">Douglas Kratz\, TBK Sports Complex</span></span><br />\n<span style="font-family:arial\,sans-serif\;"><span style="font-size:12.0pt\;">Kevin Koellner\, President\, Build to Suit\, Inc.</span></span><br />\n<span style="font-family:arial\,sans-serif\;"><span style="font-size:12.0pt\;">Mayor Bob Gallagher\, City of Bettendorf</span></span><br />\n<br />\n<span style="font-size:16px\;"><span style="font-family:arial\;">If you need any special requirements to attend this meeting please contact Marcy Hyder at&nbsp\;<a href="mailto:Mhyder@quadcitieschamber.com">Mhyder@quadcitieschamber.com</a></span></span><br />\n<br />\n<span style="font-size:16px\;"><span style="font-family:arial\;"><u><span style="color:#333333\;">&#8203\;Cancellation&nbsp\;Policy:</span></u><br style="font-family:Arial\;font-size:13px\;" />\n<span style="color:#333333\;">Cancellations&nbsp\;must be received at least 72 hours in advance in order to receive a registration refund. You may transfer your registration to another person within your company at no additional cost.</span></span></span>\n<div>&nbsp\;</div>\n
LOCATION:Bett Plex / TBK Bank Sports Complex 4850 BettPlex Drive\, Bettendorf IA
UID:e.2843.8641
SEQUENCE:3
DTSTAMP:20260423T075552Z
URL:https://member.quadcitieschamber.com/events/details/amp-up-an-inside-look-at-the-development-of-the-tbk-bank-sports-complex-8641
END:VEVENT

END:VCALENDAR
