BEGIN:VCALENDAR
VERSION:2.0
PRODID:-//ChamberMaster//Event Calendar 2.0//EN
METHOD:PUBLISH
X-PUBLISHED-TTL:P3D
REFRESH-INTERVAL:P3D
CALSCALE:GREGORIAN
BEGIN:VEVENT
DTSTART:20180919T123000Z
DTEND:20180919T133000Z
X-MICROSOFT-CDO-ALLDAYEVENT:FALSE
SUMMARY:AMp Up: Business Success - An inside look at Business of the Year Award Winner TapOnIt
DESCRIPTION:Local company TapOnIt was recently recognized as the Quad Cities Business of the Year at the Quad Cities Chamber Annual Meeting. TapOnIt is just 3 years old\, yet in the past 24 months they've experienced a 400% growth and have expanded into 16 markets across the country. Founder and CEO Katie Wilson will talk about critical keys to their success and what they've learned along the way. \n\n\n\nIf you need any special requirements to attend this meeting please contact Marcy Hyder at 563-823-2690 or mhyder@quadcitieschamber.com. \n\n\n\n\n\n Cancellation Policy:\n\nCancellations must be received at least 72 hours in advance in order to receive a registration refund. You may transfer your registration to another person within your company at no additional cost.
X-ALT-DESC;FMTTYPE=text/html:<span style="font-size:16px\;"><span style="font-family:arial\;">Local company TapOnIt was recently recognized as the Quad Cities Business of the Year at the Quad Cities Chamber Annual Meeting. TapOnIt is just 3 years old\, yet in the past 24 months they&rsquo\;ve experienced a 400% growth and have expanded into 16 markets across the country. Founder and CEO Katie Wilson will talk about critical keys to their success and what they&rsquo\;ve learned along the way. </span></span><br />\n<br />\n<span style="font-size:16px\;"><span style="font-family:arial\;">If you need any special requirements to attend this meeting please contact Marcy Hyder&nbsp\;at 563-823-2690 or mhyder@quadcitieschamber.com.&nbsp\;</span></span><br />\n<br />\n<br />\n<span style="font-size:16px\;"><span style="font-family:arial\;"><u><span style="color:#333333\;">&#8203\;Cancellation&nbsp\;Policy:</span></u><br style="font-family:Arial\;font-size:13px\;" />\n<span style="color:#333333\;">Cancellations&nbsp\;must be received at least 72 hours in advance in order to receive a registration refund. You may transfer your registration to another person within your company at no additional cost.</span></span></span>\n<div>&nbsp\;</div>\n
LOCATION:Holiday Inn Rock Island Hotel & Conference Center 226 17th Street Rock Island\, IL 61201
UID:e.2843.8642
SEQUENCE:3
DTSTAMP:20260423T062609Z
URL:https://member.quadcitieschamber.com/events/details/amp-up-business-success-an-inside-look-at-business-of-the-year-award-winner-taponit-8642
END:VEVENT

END:VCALENDAR
