BEGIN:VCALENDAR
VERSION:2.0
PRODID:-//ChamberMaster//Event Calendar 2.0//EN
METHOD:PUBLISH
X-PUBLISHED-TTL:P3D
REFRESH-INTERVAL:P3D
CALSCALE:GREGORIAN
BEGIN:VEVENT
DTSTART:20170920T123000Z
DTEND:20170920T133000Z
X-MICROSOFT-CDO-ALLDAYEVENT:FALSE
SUMMARY:AMp Up- Connecting the region: Mayors from the Quad Cities share perspectives on moving Q2030 forward (September 2017)
DESCRIPTION:At the root of everything we do to move the region forward economically   grow businesses\, create a quality place to live\, prepare workers for the future   is the need for our region's many organizations\, businesses\, cities\, counties and townships to work together. With Q2030 comes a new challenge to Quad Citizens and now more than ever our region must be connected. Join us as we welcome the Mayors from Davenport\, Bettendorf\, Rock Island\, Moline and East Moline to discuss the plans for each city individually and how they are unifying to move Q2030 forward\, increasing our capacity and impact for economic opportunity for all.\n\n\n\n*Please be aware that online registration will close at 2pm on Monday\, September 18th. Walk-ins will be accepted at the door.*\n\n \n\nIf you need any special requirements to attend this meeting please contact \n\nOlivia Bussert at Obussert@quadcitieschamber.com\n\n \n\nIf you are not a current Quad Cities Chamber member and are interested in attending this event\, please contact Gwen Tombergs at (563)823-2688.\n\n\n\n Cancellation Policy:\n\nCancellations must be received at least 72 hours in advance in order to receive a registration refund. You may transfer your registration to another person within your company at no additional cost.
X-ALT-DESC;FMTTYPE=text/html:<div>\n<div>\n<div style="FONT-FAMILY: Arial">\n<p class="MsoNormalCxSpMiddle"><span style="font-size:16px\;">At the root of everything we do to move the region forward economically &ndash\; grow businesses\, create a quality place to live\, prepare workers for the future &ndash\; is the need for our region&rsquo\;s many organizations\, businesses\, cities\, counties and townships to work together. With Q2030 comes a new challenge to Quad Citizens and now more than ever our region must be connected. Join us as we welcome the Mayors from Davenport\, Bettendorf\, Rock Island\, Moline and East Moline to discuss the plans for each city individually and how they are unifying to move Q2030 forward\, increasing our capacity and impact for economic opportunity for all.<br />\n<br />\n<span style="color: rgb(51\, 51\, 51)\; background-color: rgb(255\, 255\, 255)\; font-family: arial\, sans-serif\;">*Please be aware that online registration will close at 2pm on Monday\, September&nbsp\;18th. Walk-ins will be accepted at the door.*</span><br style="color: rgb(51\, 51\, 51)\; font-family: Arial\; font-size: 13px\; background-color: rgb(255\, 255\, 255)\;" />\n<span style="color: rgb(51\, 51\, 51)\; background-color: rgb(255\, 255\, 255)\; font-family: arial\, sans-serif\;">&nbsp\;</span><br style="color: rgb(51\, 51\, 51)\; font-family: Arial\; font-size: 13px\; background-color: rgb(255\, 255\, 255)\;" />\n<span style="color: rgb(51\, 51\, 51)\; background-color: rgb(255\, 255\, 255)\; font-family: arial\;">If you need any special requirements to attend this meeting please contact&nbsp\;</span><br style="color: rgb(51\, 51\, 51)\; background-color: rgb(255\, 255\, 255)\; font-family: arial\; font-size: 16px\;" />\n<span style="color: rgb(51\, 51\, 51)\; background-color: rgb(255\, 255\, 255)\; font-family: arial\;">Olivia&nbsp\;Bussert&nbsp\;at&nbsp\;Obussert@quadcitieschamber.com</span><br style="color: rgb(51\, 51\, 51)\; font-family: Arial\; font-size: 13px\; background-color: rgb(255\, 255\, 255)\;" />\n<span style="color: rgb(51\, 51\, 51)\; background-color: rgb(255\, 255\, 255)\; font-family: arial\, sans-serif\;">&nbsp\;<br />\n<strong>If you are not a current Quad Cities Chamber member and are interested in attending this event\, please contact Gwen</strong>&nbsp\;<strong><span data-scayt-lang="en_US" data-scayt-word="Tombergs" style="background-position: 52% 100%\;">Tombergs</span></strong>&nbsp\;<strong>at (563)823-2688.</strong></span><br style="color: rgb(51\, 51\, 51)\; font-family: Arial\; font-size: 13px\; background-color: rgb(255\, 255\, 255)\;" />\n<br style="color: rgb(51\, 51\, 51)\; font-family: Arial\; font-size: 13px\; background-color: rgb(255\, 255\, 255)\;" />\n<u style="color: rgb(51\, 51\, 51)\; font-family: Arial\; font-size: 13px\; background-color: rgb(255\, 255\, 255)\;"><span style="font-family: arial\, sans-serif\;">&#8203\;Cancellation&nbsp\;Policy:</span></u><br style="color: rgb(51\, 51\, 51)\; font-family: Arial\; font-size: 13px\; background-color: rgb(255\, 255\, 255)\;" />\n<span style="color: rgb(51\, 51\, 51)\; background-color: rgb(255\, 255\, 255)\; font-family: arial\, sans-serif\;">Cancellations&nbsp\;must be received at least 72 hours in advance in order to receive a registration refund. You may transfer your registration to another person within your company at no additional cost.</span></span></p>\n</div>\n</div>\n</div>\n
LOCATION:MetroLink Centre Station 1200 Riverdrive Moline\, IL
UID:e.2843.1348
SEQUENCE:3
DTSTAMP:20260423T220939Z
URL:https://member.quadcitieschamber.com/events/details/amp-up-connecting-the-region-mayors-from-the-quad-cities-share-perspectives-on-moving-q2030-forward-september-2017-1348
END:VEVENT

END:VCALENDAR
