BEGIN:VCALENDAR
VERSION:2.0
PRODID:-//ChamberMaster//Event Calendar 2.0//EN
METHOD:PUBLISH
X-PUBLISHED-TTL:P3D
REFRESH-INTERVAL:P3D
CALSCALE:GREGORIAN
BEGIN:VEVENT
DTSTART:20170517T123000Z
DTEND:20170517T133000Z
X-MICROSOFT-CDO-ALLDAYEVENT:FALSE
SUMMARY:AMp Up - Countdown to the John Deere Classic
DESCRIPTION:The John Deere Classic is a longtime signature event in the Quad Cities that draws thousands to the region each summer and provides an incredibly positive economic impact to the community. Join us as we count down the days until the 2017 John Deere Classic and reveal some of this year's exciting news for the tournament and Birdies for Charity along with our great partners\, John Deere and WQAD. It's not just about the golf either - learn about the economic & charitable impact the PGA TOUR stop has on the Quad Cities region.\n\n\n\n*Please be aware that online registration will close at 2pm on Friday\, May 12th. Walk-ins will be accepted at the door.*\n\n \n\nIf you need any special requirements to attend this meeting please contact \n\nOlivia Bussert at Obussert@quadcitieschamber.com\n\n \n\nIf you are not a current Quad Cities Chamber member and are interested in attending this event\, please contact Gwen Tombergs at (563)823-2688.\n\n\n\n Cancellation Policy:\n\nCancellations must be received at least 72 hours in advance in order to receive a registration refund. You may transfer your registration to another person within your company at no additional cost.
X-ALT-DESC;FMTTYPE=text/html:<div>\n<div>\n<div style="FONT-FAMILY: Arial">\n<p class="MsoNormalCxSpMiddle"><span style="font-size:16px\;"><span style="font-family:arial\;">The John Deere Classic is a longtime signature event in the Quad Cities that draws thousands to the region each summer and provides an incredibly positive economic impact to the community.&nbsp\;Join us as we count down the days until the 2017 John Deere Classic and reveal some of this year&rsquo\;s exciting news for the tournament and Birdies for Charity along with our great partners\, John Deere and WQAD. It&rsquo\;s not just about the golf either - learn about the economic &amp\; charitable impact the PGA TOUR stop has on the Quad Cities region.</span></span><br />\n<br />\n<span style="font-family: arial\, sans-serif\;"><span style="font-size: 12pt\;">*Please be aware that online registration will close at 2pm on Friday\, May 12th</span></span><span style="font-family: arial\, sans-serif\;"><span style="font-size: 12pt\;">. Walk-ins will be accepted at the door.*</span></span><br />\n<span style="font-family: arial\, sans-serif\;"><span style="font-size: 12pt\;">&nbsp\;</span></span><br />\n<span style="font-family: arial\; font-size: 16px\;">If you need any special requirements to attend this meeting please contact&nbsp\;</span><br style="font-family: arial\; font-size: 16px\;" />\n<span style="font-family: arial\; font-size: 16px\;">Olivia Bussert at Obussert@quadcitieschamber.com</span><br />\n<span style="font-family: arial\, sans-serif\;"><span style="font-size: 12pt\;">&nbsp\;<br />\n<strong>If you are not a current Quad Cities Chamber member and are interested in attending this event\, please contact Gwen</strong>&nbsp\;<strong><span data-scayt-lang="en_US" data-scayt-word="Tombergs" style="background-position: 52% 100%\;">Tombergs</span></strong>&nbsp\;<strong>at (563)823-2688.</strong></span></span><br />\n<br />\n<u><span style="font-family: arial\, sans-serif\;"><span style="font-size: 12pt\;">&#8203\;Cancellation&nbsp\;Policy:</span></span></u><br />\n<span style="font-family: arial\, sans-serif\;"><span style="font-size: 12pt\;">Cancellations&nbsp\;must be received at least 72 hours in advance in order to receive a registration refund. You may transfer your registration to another person within your company at no additional cost.</span></span></p>\n</div>\n</div>\n</div>\n
LOCATION:Isle Casino & Hotel - Isle Ballroom
UID:e.2843.1345
SEQUENCE:3
DTSTAMP:20260424T031555Z
URL:https://member.quadcitieschamber.com/events/details/amp-up-countdown-to-the-john-deere-classic-1345
END:VEVENT

END:VCALENDAR
