BEGIN:VCALENDAR
VERSION:2.0
PRODID:-//ChamberMaster//Event Calendar 2.0//EN
METHOD:PUBLISH
X-PUBLISHED-TTL:P3D
REFRESH-INTERVAL:P3D
CALSCALE:GREGORIAN
BEGIN:VEVENT
DTSTART:20170315T123000Z
DTEND:20170315T140000Z
X-MICROSOFT-CDO-ALLDAYEVENT:FALSE
SUMMARY:AMp Up! - Illinois Mayoral Candidate Forum (March 2017)
DESCRIPTION:Do you know where each of the mayoral candidates stand on issues facing the Quad Cities? Quad Citizens will get an opportunity to address the mayoral candidates for the City of Moline and Rock Island. Hear perspectives from each of the candidates and learn about their vision for their respective cities and our region.\n\n\n\n*Please be aware that online registration will close at 2pm on Tuesday\, March 14th. Walk-ins will be accepted at the door.*\n\n \n\nIf you need any special requirements to attend this meeting please contact \n\nJessica Webb at jwebb@quadcitieschamber.com\n\n \n\nIf you are not a current Quad Cities Chamber member and are interested in attending this event\, please contact Gwen Tombergs at (563)823-2688.\n\n\n\n Cancellation Policy:\n\nCancellations must be received at least 72 hours in advance in order to receive a registration refund. You may transfer your registration to another person within your company at no additional cost.
X-ALT-DESC;FMTTYPE=text/html:<div><span style="font-family:arial\,sans-serif\;"><span style="font-size:12.0pt\;">Do you know where each of the mayoral candidates stand on issues facing the Quad Cities? Quad Citizens will get an opportunity to address the mayoral candidates for the City of Moline and Rock Island. Hear perspectives from each of the candidates and learn about their vision for their respective cities and our region.</span></span><br />\n<br />\n<span style="background:white\;"><span style="color:#333333\;"><span style="font-family:arial\,sans-serif\;"><span style="font-size:12.0pt\;">*Please be aware that online registration will close at 2pm on Tuesday\, March&nbsp\;<span style="font-size:12pt\;">14th</span></span></span></span></span><span style="background:white\;"><span style="color:#333333\;"><span style="font-family:arial\,sans-serif\;"><span style="font-size:12.0pt\;">. Walk-ins will be accepted at the door.*</span></span></span></span><br />\n<span style="color:#333333\;"><span style="font-family:arial\,sans-serif\;"><span style="font-size:12.0pt\;">&nbsp\;</span></span></span><br />\n<span style="font-family: arial\; font-size: 16px\;">If you need any special requirements to attend this meeting please contact&nbsp\;</span><br style="font-family: arial\; font-size: 16px\;" />\n<span style="font-family: arial\; font-size: 16px\;">Jessica Webb&nbsp\;at&nbsp\;</span><a href="mailto:mlovelady@quadcitieschamber.com" style="font-family: arial\; font-size: 16px\;">jwebb@quadcitieschamber.com</a><br />\n<span style="font-family:arial\,sans-serif\;"><span style="font-size:12.0pt\;"><span style="color:#333333\;">&nbsp\;<br />\n<strong><span style="background-image:initial\;background-position:initial\;background-size:initial\;background-repeat:initial\;background-attachment:initial\;background-origin:initial\;background-clip:initial\;"><span style="background:white\;">If you are not a current Quad Cities Chamber member and are interested in attending this event\, please contact Gwen</span></span></strong>&nbsp\;<strong><span data-scayt-lang="en_US" data-scayt-word="Tombergs" style="background-position-x:52%\;background-position-y:100%\;">Tombergs</span></strong></span><span style="background:white\;">&nbsp\;<strong>at (563)823-2688.</strong></span></span></span><br />\n<br />\n<u><span style="font-family:arial\,sans-serif\;"><span style="font-size:12.0pt\;">&#8203\;Cancellation Policy:</span></span></u><br />\n<span style="font-family:arial\,sans-serif\;"><span style="font-size:12.0pt\;">Cancellations must be received at least 72 hours in advance in order to receive a registration refund. You may transfer your registration to another person within your company at no additional cost.</span></span></div>\n
LOCATION:Two Rivers YMCA 2040 53rd Street Moline\, IL 61265
UID:e.2843.4510
SEQUENCE:3
DTSTAMP:20260424T070618Z
URL:https://member.quadcitieschamber.com/events/details/amp-up-illinois-mayoral-candidate-forum-march-2017-4510
END:VEVENT

END:VCALENDAR
