BEGIN:VCALENDAR
VERSION:2.0
PRODID:-//ChamberMaster//Event Calendar 2.0//EN
METHOD:PUBLISH
X-PUBLISHED-TTL:P3D
REFRESH-INTERVAL:P3D
CALSCALE:GREGORIAN
BEGIN:VEVENT
DTSTART:20190320T121500Z
DTEND:20190320T133000Z
X-MICROSOFT-CDO-ALLDAYEVENT:FALSE
SUMMARY:AMp Up Morning Network - Connecting the region: Mayors from the Quad Cities share what businesses need to know this year
DESCRIPTION:7:00 a.m. Check-In and Breakfast\n\n7:15 a.m. New Member Power Networking\n\n7:30 - 8:30 a.m. Program\n\n\n\nWaterfront Convention Center\n\n2021 State St\, Bettendorf\, IA \n\n \n\nAt the root of everything we do to move the region forward economically   grow businesses\, create a quality place to live\, prepare workers for the future   is the need for our region's many organizations\, businesses\, cities\, counties and townships to work together. \n\n\n\nJoin us on Wednesday\, March 20 for AMp Up to hear from our city leaders on current initiatives\, projects\, and hot issues. Mayors from across the region will discuss the plans for each city individually and how they are unifying to move our region forward\, increasing our capacity and impact for economic opportunity for all.\n\n \n\nMayors attending:\n\nBob Gallagher   Bettendorf\n\nFrank Klipsch   Davenport\n\nReggie Freeman   East Moline\n\nMarty O'Boyle   Eldridge\n\nRay Allen - LeClaire\n\nDuane Dawson   Milan\n\nStephanie Acri   Moline\n\nDylan Parker (ProTem) - Rock Island\n\n \n\nEvent overview:\n\n7:00 a.m. Check-In and Breakfast\n\n7:15 a.m. New Member Power Networking\n\n7:30 - 8:30 a.m. Program\n\n\n\nIf you need any special requirements to attend this meeting please contact Marcy Hyder at mhyder@quadcitieschamber.com\n\n \n\nIf you are not a current Quad Cities Chamber member and are interested in attending this event\, please contact Marcy Hyder at (563)823-2690.\n\n\n\n Cancellation Policy:\n\nCancellations must be received at least 72 hours in advance in order to receive a registration refund. You may transfer your registration to another person within your company at no additional cost.
X-ALT-DESC;FMTTYPE=text/html:<span style="font-size: 16px\; font-family: arial\;">7:00 a.m. Check-In and Breakfast<br />\n7:15 a.m. New Member Power Networking</span><br />\n<span style="font-size: 16px\; font-family: arial\;">7:30 - 8:30 a.m. Program</span><br />\n<br />\n<strong><font color="#273238" face="arial"><span style="font-size: 16px\;">Waterfront Convention Center</span></font><br style="box-sizing: content-box\; bottom: auto\; clear: none\; color: rgb(39\, 50\, 56)\; content: normal\; direction: inherit\; display: inline\; empty-cells: show\; float: none\; font-variant-numeric: inherit\; font-variant-east-asian: inherit\; font-stretch: inherit\; font-size: 16px\; font-family: arial\; left: auto\; line-height: inherit\; margin: 0px\; max-height: none\; max-width: none\; min-height: initial\; min-width: initial\; opacity: 1\; outline-offset: 0px\; overflow: visible\; padding: 0px\; position: static\; resize: none\; right: auto\; table-layout: auto\; text-overflow: clip\; top: auto\; vertical-align: baseline\; visibility: inherit\; word-break: inherit\; overflow-wrap: inherit\; z-index: auto\; background-image: none\; background-position: initial\; background-size: initial\; background-repeat: initial\; background-attachment: initial\; background-origin: initial\; background-clip: initial\; border: none\; border-collapse: separate\; border-radius: 0px\; height: auto\; width: auto\;" />\n<span style="font-size: 16px\;"><span style="font-family: arial\;"><span class="LrzXr" style="color: rgb(34\, 34\, 34)\;">2021 State St\, Bettendorf\, IA&nbsp\;</span></span></span></strong><br />\n&nbsp\;<br />\n<span style="font-family: Roboto\, sans-serif\; font-size: 16px\;"><span style="font-family: arial\;">At the root of everything we do to move the region forward economically &ndash\; grow businesses\, create a quality place to live\, prepare workers for the future &ndash\; is the need for our region&rsquo\;s many organizations\, businesses\, cities\, counties and townships to work together.&nbsp\;</span></span><br />\n<br />\n<span style="font-family: arial\; font-size: 16px\;">Join us on Wednesday\, March 20 for AMp Up to hear from our city leaders on current initiatives\, projects\, and hot issues.&nbsp\;</span><span style="font-family: Roboto\, sans-serif\; font-size: 16px\;"><span style="font-family: arial\;">Mayors from across the region will discuss the plans for each city individually and how they are unifying to move our region forward\, increasing our capacity and impact for economic opportunity for all.</span></span><br />\n<span style="font-size:16px\;"><span style="font-family:arial\;">&nbsp\;<br />\nMayors attending:</span></span><br />\n<span style="color: rgb(51\, 51\, 51)\; font-family: arial\; font-size: 16px\; background-color: rgb(255\, 255\, 255)\;">Bob Gallagher &ndash\; Bettendorf</span><br />\n<span style="font-size:16px\;"><span style="font-family:arial\;">Frank Klipsch &ndash\; Davenport</span></span><br />\n<span style="font-family: arial\; font-size: 16px\;">Reggie Freeman &ndash\; East Moline</span><br />\n<span style="font-family: arial\; font-size: 16px\;">Marty O&rsquo\;Boyle &ndash\; Eldridge</span><br />\n<span style="font-family: arial\; font-size: 16px\;">Ray Allen - LeClaire<br />\nDuane Dawson &ndash\; Milan</span><br />\n<span style="font-size:16px\;"><span style="font-family:arial\;">Stephanie Acri &ndash\; Moline<br />\nDylan Parker (ProTem) - Rock Island<br />\n&nbsp\;</span></span><br />\n<span style="font-size:16px\;"><span style="font-family:arial\;">Event overview:</span></span><br />\n<span style="font-size: 16px\; font-family: arial\;">7:00 a.m. Check-In and Breakfast<br />\n7:15 a.m. <strong>New Member Power Networking</strong></span><br />\n<span style="font-size: 16px\; font-family: arial\;">7:30 - 8:30 a.m. Program</span><br />\n<br />\n<span style="font-size:14px\;"><span style="font-family:arial\;">If you need any special requirements to attend this meeting please contact Marcy Hyder at mhyder@quadcitieschamber.com</span></span><br />\n<span style="font-family:arial\,sans-serif\;"><span style="font-size:12pt\;">&nbsp\;<br />\n<strong>If you are not a current Quad Cities Chamber member and are interested in attending this event\, please contact Marcy Hyder</strong>&nbsp\;<strong>at (563)823-2690.</strong></span></span><br />\n<br />\n<span style="font-size:16px\;"><span style="font-family:arial\;"><u><span style="color:#333333\;">&#8203\;Cancellation&nbsp\;Policy:</span></u><br style="font-family:Arial\;font-size:13px\;" />\n<span style="color:#333333\;">Cancellations&nbsp\;must be received at least 72 hours in advance in order to receive a registration refund. You may transfer your registration to another person within your company at no additional cost.</span></span></span>\n<div>&nbsp\;</div>\n
LOCATION:Waterfront Convention Center 2021 State St\, Bettendorf\, IA
UID:e.2843.13609
SEQUENCE:3
DTSTAMP:20260422T183533Z
URL:https://member.quadcitieschamber.com/events/details/amp-up-morning-network-connecting-the-region-mayors-from-the-quad-cities-share-what-businesses-need-to-know-this-year-13609
END:VEVENT

END:VCALENDAR
