BEGIN:VCALENDAR
VERSION:2.0
PRODID:-//ChamberMaster//Event Calendar 2.0//EN
METHOD:PUBLISH
X-PUBLISHED-TTL:P3D
REFRESH-INTERVAL:P3D
CALSCALE:GREGORIAN
BEGIN:VEVENT
DTSTART:20190515T120000Z
DTEND:20190515T133000Z
X-MICROSOFT-CDO-ALLDAYEVENT:FALSE
SUMMARY:AMp Up Morning Network: Countdown to the 2019 John Deere Classic
DESCRIPTION:AMp Up: Countdown to the 2019 John Deere Classic!\n\nOnline Registration is closed. Walk-ins are welcome!\n\nThe John Deere Classic is a longtime signature event in the Quad Cities that draws thousands to the region each summer and provides an incredibly positive economic impact to the community. \n\n\n\nJoin us as we count down the days until the 2019 John Deere Classic and reveal some of this year's exciting news for the tournament and Birdies for Charity along with our great partners\, John Deere and WQAD. It's not just about the golf either - learn about the economic & charitable impact the PGA TOUR stop has on the Quad Cities region.\n\n\n\nIf you need any special requirements to attend this meeting please contact  Marcy Hyder at mhyder@quadcitieschamber.com\n\n Cancellation Policy:\n\nCancellations must be received at least 72 hours in advance in order to receive a registration refund. You may transfer your registration to another person within your company at no additional cost.
X-ALT-DESC;FMTTYPE=text/html:<span style="font-family: arial\; font-size: 16px\;"><strong>AMp Up: Countdown to the 2019 John Deere Classic!</strong><br />\n<span style="color:#FF0000\;"><em>Online Registration is closed. Walk-ins are welcome!</em></span><br />\nT</span><span style="font-family: arial\; font-size: 16px\;">he John Dee</span><span style="font-family: arial\; font-size: 16px\;">re Classic is</span><span style="font-family: arial\; font-size: 16px\;">&nbsp\;a longtime signature event in the Quad Cities that draws thousands to the region ea</span><span style="font-family: arial\; font-size: 16px\;">ch</span><span style="font-family: arial\; font-size: 16px\;">&nbsp\;summer and provides an incredibly positive economic impact to the community.&nbsp\;<br />\n<br />\nJoin us as we count down the days until the 2019 John Deere Classic and reveal some of this year&#39\;s exciting news for the tournament and Birdies for Charity along with our great partners\, John Deere and WQAD</span><span style="font-family: arial\; font-size: 16px\;">. It&#39\;s not just about the golf either - learn about the economic &amp\; charitable impact the PGA TOUR stop has on the Quad Cities region.</span><br />\n<br />\n<span style="font-size: 16px\;"><span style="font-family: arial\;">If you need any special requirements to attend this meeting please contact&nbsp\; Marcy Hyder&nbsp\;at mhyder@quadcitieschamber.com</span></span><br />\n<span style="font-size:16px\;"><span style="font-family:arial\;"><u><span style="color:#333333\;">&#8203\;Cancellation&nbsp\;Policy:</span></u><br style="font-family:Arial\;font-size:13px\;" />\n<span style="color:#333333\;">Cancellations&nbsp\;must be received at least 72 hours in advance in order to receive a registration refund. You may transfer your registration to another person within your company at no additional cost.</span></span></span>\n<div>&nbsp\;</div>\n
LOCATION:Rhythm City Casino Resort 7077 Elmore Avenue Davenport\, IA 52807
UID:e.2843.13622
SEQUENCE:3
DTSTAMP:20260422T145639Z
URL:https://member.quadcitieschamber.com/events/details/amp-up-morning-network-countdown-to-the-2019-john-deere-classic-13622
END:VEVENT

END:VCALENDAR
