BEGIN:VCALENDAR
VERSION:2.0
PRODID:-//ChamberMaster//Event Calendar 2.0//EN
METHOD:PUBLISH
X-PUBLISHED-TTL:P3D
REFRESH-INTERVAL:P3D
CALSCALE:GREGORIAN
BEGIN:VEVENT
DTSTART:20181111T000000Z
DTEND:20181111T040000Z
X-MICROSOFT-CDO-ALLDAYEVENT:FALSE
SUMMARY:An Evening With Gershwin
DESCRIPTION:Join us for An Evening with Gershwin featuring Freddy Allen pianist/vocalist playing all your favorite George Gershwin hits such as Rhapsody in Blue and An American in Paris. You will enjoy hors d' oeuvres and cash bar. Tickets at Eventbrite or call 563-265-2753.
X-ALT-DESC;FMTTYPE=text/html:Join us for An Evening with Gershwin featuring Freddy Allen pianist/vocalist playing all your favorite George Gershwin hits such as Rhapsody in Blue and An American in Paris. You will enjoy hors d&#39\; oeuvres and cash bar. Tickets at Eventbrite or call 563-265-2753.
LOCATION:Hauberg Estate 1300 24th St. Rock Island\, IL 61201
UID:e.2843.13535
SEQUENCE:3
DTSTAMP:20260423T013336Z
URL:https://member.quadcitieschamber.com/events/details/an-evening-with-gershwin-13535
END:VEVENT

END:VCALENDAR
