BEGIN:VCALENDAR
VERSION:2.0
PRODID:-//ChamberMaster//Event Calendar 2.0//EN
METHOD:PUBLISH
X-PUBLISHED-TTL:P3D
REFRESH-INTERVAL:P3D
CALSCALE:GREGORIAN
BEGIN:VEVENT
DTSTART:20140506T173000Z
DTEND:20140506T180000Z
X-MICROSOFT-CDO-ALLDAYEVENT:FALSE
SUMMARY:Anderson Dental Ground Breaking
DESCRIPTION:Anderson Dental\, currently located at 5189 Utica Ridge Rd. in Davenport\, will break ground on their new location at 141 E. 46th St. Davenport\, IA on Tuesday\, May 6th at 12:30pm.  Anderson Dental recently celebrated their 10 year anniversary back in February.  They offer a wide variety of dental services with cutting edge technology.  Anderson Dental also uses sedation dentistry to treat fearful patients comfortably.  Dr. Matt Anderson and his staff of six are dedicated in helping people with their dental needs.  For more information\, please visit www.andersondentalqc.com.  The ground breaking will take place at 141 E. 46th St. in Davenport.  Thank you\,
X-ALT-DESC;FMTTYPE=text/html:<FONT face=Calibri><P style="MARGIN: 0in 0in 0pt" class=MsoNormal><P style="MARGIN: 0in 0in 0pt" class=MsoNormal>Anderson Dental\, currently located at 5189 Utica Ridge Rd. in Davenport\, will break ground on their new location at 141 E. 46<SUP>th</SUP> St. Davenport\, IA<B style="mso-bidi-font-weight: normal"> </B>on <B style="mso-bidi-font-weight: normal">Tuesday\, May 6th at 12:30pm</B>.<SPAN style="mso-spacerun: yes">&nbsp\;</SPAN></P><P></P><P style="MARGIN: 0in 0in 0pt" class=MsoNormal><?xml:namespace prefix = o ns = "urn:schemas-microsoft-com:office:office" /><o:p>&nbsp\;</o:p></P><P style="MARGIN: 0in 0in 0pt" class=MsoNormal>Anderson Dental recently celebrated their 10 year anniversary back in February.<SPAN style="mso-spacerun: yes">&nbsp\; </SPAN>They offer a wide variety of dental services with cutting edge technology.<SPAN style="mso-spacerun: yes">&nbsp\; </SPAN>Anderson Dental also uses sedation dentistry to treat fearful patients comfortably.<SPAN style="mso-spacerun: yes">&nbsp\; </SPAN>Dr. Matt Anderson and his staff of six are dedicated in helping people with their dental needs. <o:p></o:p></P><P style="MARGIN: 0in 0in 0pt" class=MsoNormal><o:p>&nbsp\;</o:p></P><P style="MARGIN: 0in 0in 0pt" class=MsoNormal>For more information\, please visit <A href="http://www.andersondentalqc.com"><SPAN style="COLOR: blue">www.andersondentalqc.com</SPAN></A>.<SPAN style="mso-spacerun: yes">&nbsp\; </SPAN>The ground breaking will take place at 141 E. 46<SUP>th</SUP> St. in Davenport. <o:p></o:p></P><P style="MARGIN: 0in 0in 0pt" class=MsoNormal><o:p>&nbsp\;</o:p></P><P style="MARGIN: 0in 0in 0pt" class=MsoNormal>Thank you\, <o:p></o:p></P><P style="MARGIN: 0in 0in 0pt" class=MsoNormal>&nbsp\;</P><P></FONT></P><P></P>
LOCATION:Anderson Dental5189 Utica Ridge Rd. Davenport\, IA 52807
UID:e.2843.795
SEQUENCE:3
DTSTAMP:20260422T110250Z
URL:https://member.quadcitieschamber.com/events/details/anderson-dental-ground-breaking-05-06-2014-795
END:VEVENT

END:VCALENDAR
