BEGIN:VCALENDAR
VERSION:2.0
PRODID:-//ChamberMaster//Event Calendar 2.0//EN
METHOD:PUBLISH
X-PUBLISHED-TTL:P3D
REFRESH-INTERVAL:P3D
CALSCALE:GREGORIAN
BEGIN:VEVENT
DTSTART:20121114T220000Z
DTEND:20121114T223000Z
X-MICROSOFT-CDO-ALLDAYEVENT:FALSE
SUMMARY:Animal Playground Ribbon Cutting
DESCRIPTION:Please help welcome new member\, Animal Playground\, to the Chamber with a ribbon cutting on Wednesday\, November 14th at 4:00pm.  Located at 2415 Shaker Ct in Bettendorf – across from Bettendorf Middle School on 18th Street. Animal Playground is a dog daycare\, boarding and grooming facility.  When dogs are boarded with them\, they can join their daycare so they can play all day long.  For more information\, please visit www.animalplayground.net
X-ALT-DESC;FMTTYPE=text/html:<DIV style="FONT-FAMILY: Arial"><P style="MARGIN: 0in 0in 0pt" class=MsoNormal><FONT face="Times New Roman">Please help welcome new member\, Animal Playground\, to the Chamber with a ribbon cutting on Wednesday\, November 14<SUP>th</SUP> at 4:00pm.<SPAN style="mso-spacerun: yes">&nbsp\; </SPAN>Located at 2415 Shaker Ct in Bettendorf – across from Bettendorf Middle School on 18<SUP>th</SUP> Street.<?xml:namespace prefix = o ns = "urn:schemas-microsoft-com:office:office" /><o:p></o:p></FONT></P><P style="MARGIN: 0in 0in 0pt" class=MsoNormal><o:p><FONT face="Times New Roman">&nbsp\;</FONT></o:p></P><P style="MARGIN: 0in 0in 0pt" class=MsoNormal><FONT face="Times New Roman">Animal Playground is a dog daycare\, boarding and grooming facility.<SPAN style="mso-spacerun: yes">&nbsp\; </SPAN>When dogs are boarded with them\, they can join their daycare so they can play all day long.<SPAN style="mso-spacerun: yes">&nbsp\; </SPAN>For more information\, please visit </FONT><A href="http://www.animalplayground.net"><FONT face="Times New Roman">www.animalplayground.net</FONT></A><o:p></o:p></P></DIV>
LOCATION:Animal Playground2415 Shaker Court Bettendorf\, IA 52722
UID:e.2843.472
SEQUENCE:3
DTSTAMP:20260421T170109Z
URL:https://member.quadcitieschamber.com/events/details/animal-playground-ribbon-cutting-11-14-2012-472
END:VEVENT

END:VCALENDAR
