BEGIN:VCALENDAR
VERSION:2.0
PRODID:-//ChamberMaster//Event Calendar 2.0//EN
METHOD:PUBLISH
X-PUBLISHED-TTL:P3D
REFRESH-INTERVAL:P3D
CALSCALE:GREGORIAN
BEGIN:VEVENT
DTSTART:20181024T180000Z
DTEND:20181024T182500Z
X-MICROSOFT-CDO-ALLDAYEVENT:FALSE
SUMMARY:Anniversary Celebration - Lundgren Family Chiropractic
DESCRIPTION:Lundgren Family Chiropractic will be hosting a 20th Anniversary Business Celebration on Wednesday\, October 24th at 1:00 pm. An Open House will take place from 1:00 pm - 6:00 pm that day.
X-ALT-DESC;FMTTYPE=text/html:Lundgren Family Chiropractic will be hosting a 20th Anniversary Business Celebration on Wednesday\, October 24th at 1:00 pm. An Open House will take place from 1:00 pm - 6:00 pm that day.
LOCATION:2965 13th Avenue Rock Island\, IL 61201 Located on the corner of 30th St. & 13th Ave. in The College Hill District
UID:e.2843.13507
SEQUENCE:3
DTSTAMP:20260423T030027Z
URL:https://member.quadcitieschamber.com/events/details/anniversary-celebration-lundgren-family-chiropractic-13507
END:VEVENT

END:VCALENDAR
