BEGIN:VCALENDAR
VERSION:2.0
PRODID:-//ChamberMaster//Event Calendar 2.0//EN
METHOD:PUBLISH
X-PUBLISHED-TTL:P3D
REFRESH-INTERVAL:P3D
CALSCALE:GREGORIAN
BEGIN:VEVENT
DTSTART:20110818T163000Z
DTEND:20110818T180000Z
X-MICROSOFT-CDO-ALLDAYEVENT:FALSE
SUMMARY:Annual Meeting 2011
DESCRIPTION:Annual Meeting - August 18Featuring Richard Davis\, Chairman\, President & CEO\, U.S. Bancorp Join us at our 2011 Annual Meeting as we recognize the Chamber's Volunteer of the Year\, take a look at the year's accomplishments\, and hear from keynote speaker Richard K. Davis\, chairman\, president and CEO\, U.S. Bancorp.  Davis will join us at the RiverCenter for an exclusive luncheon and presentation.  Mr. Davis has been an influencing force in the banking industry for 34 years and is regularly in Washington D.C. fielding questions from members of Congress\, the President and regulators about the banking industry. He was named "Banker of the Year" in 2010 by the American Banker.    Thursday\, August 18RiverCenter\, DavenportRegistration: 11:30 a.m.Program: 12:00 - 1:00 p.m.Cost: $25 per person/$200 for a table of 8
X-ALT-DESC;FMTTYPE=text/html:<DIV><P style="MARGIN: 0in 0in 0pt" class=MsoNormal align=center><B><SPAN style="COLOR: green"><FONT face=Calibri>Annual Meeting - August 18<?xml:namespace prefix = o ns = "urn:schemas-microsoft-com:office:office" /><o:p></o:p></FONT></SPAN></B></P><P style="MARGIN: 0in 0in 0pt" class=MsoNormal align=center><B><SPAN style="COLOR: green"><FONT face=Calibri>Featuring Richard Davis\, Chairman\, President &amp\; CEO\, U.S. Bancorp<o:p></o:p></FONT></SPAN></B></P><P style="MARGIN: 0in 0in 0pt" class=MsoNormal align=center><SPAN style="COLOR: green"><o:p><FONT face=Calibri>&nbsp\;</FONT></o:p></SPAN></P><?xml:namespace prefix = v ns = "urn:schemas-microsoft-com:vml" /><v:shapetype id=_x0000_t75 stroked="f" filled="f" path="m@4@5l@4@11@9@11@9@5xe" o:preferrelative="t" o:spt="75" coordsize="21600\,21600"><v:stroke joinstyle="miter"></v:stroke><v:formulas><v:f eqn="if lineDrawn pixelLineWidth 0"></v:f><v:f eqn="sum @0 1 0"></v:f><v:f eqn="sum 0 0 @1"></v:f><v:f eqn="prod @2 1 2"></v:f><v:f eqn="prod @3 21600 pixelWidth"></v:f><v:f eqn="prod @3 21600 pixelHeight"></v:f><v:f eqn="sum @0 0 1"></v:f><v:f eqn="prod @6 1 2"></v:f><v:f eqn="prod @7 21600 pixelWidth"></v:f><v:f eqn="sum @8 21600 0"></v:f><v:f eqn="prod @7 21600 pixelHeight"></v:f><v:f eqn="sum @10 21600 0"></v:f></v:formulas><v:path o:connecttype="rect" gradientshapeok="t" o:extrusionok="f"></v:path><o:lock aspectratio="t" v:ext="edit"></o:lock></v:shapetype><P style="MARGIN: 0in 0in 0pt" align=center><v:shape style="Z-INDEX: 251657728\; POSITION: absolute\; MARGIN-TOP: 0px\; WIDTH: 90pt\; HEIGHT: 134.25pt\; VISIBILITY: visible\; MARGIN-LEFT: 0px\; mso-wrap-style: square\; mso-wrap-distance-left: 3.75pt\; mso-wrap-distance-top: 3.75pt\; mso-wrap-distance-right: 3.75pt\; mso-wrap-distance-bottom: 3.75pt\; mso-position-horizontal: left\; mso-position-horizontal-relative: text\; mso-position-vertical: absolute\; mso-position-vertical-relative: line" id=Picture_x0020_2 o:allowoverlap="f" alt="Richard Davis - US Bancorp" type="#_x0000_t75" o:spid="_x0000_s1026"><FONT face=Calibri><v:imagedata o:title="Richard Davis - US Bancorp" src="file:///C:\\DOCUME~1\\anagle\\LOCALS~1\\Temp\\msohtmlclip1\\01\\clip_image001.jpg"></v:imagedata><?xml:namespace prefix = w ns = "urn:schemas-microsoft-com:office:word" /><w:wrap type="square"></w:wrap></FONT></v:shape></P><SPAN style="FONT-FAMILY: 'Verdana'\,'sans-serif'\; COLOR: #333333\; FONT-SIZE: 10pt"><P style="MARGIN: 0in 0in 0pt" align=center><SPAN style="FONT-FAMILY: 'Verdana'\,'sans-serif'\; COLOR: #333333\; FONT-SIZE: 10pt">Join us at our 2011 Annual Meeting as we recognize the Chamber's Volunteer of the Year\, take a look at the year's accomplishments\, and hear from keynote speaker Richard K. Davis\, chairman\, president and CEO\, U.S. Bancorp.&nbsp\;<o:p></o:p></SPAN></P><P style="MARGIN: 0in 0in 0pt" align=center><SPAN style="FONT-FAMILY: 'Verdana'\,'sans-serif'\; COLOR: #333333\; FONT-SIZE: 10pt">&nbsp\;<o:p></o:p></SPAN></P><P style="MARGIN: 0in 0in 0pt" align=center><SPAN style="FONT-FAMILY: 'Verdana'\,'sans-serif'\; COLOR: #333333\; FONT-SIZE: 10pt">Davis will join us at the RiverCenter for an exclusive luncheon and presentation.&nbsp\;<o:p></o:p></SPAN></P><P style="MARGIN: 0in 0in 0pt" align=center><SPAN style="FONT-FAMILY: 'Verdana'\,'sans-serif'\; COLOR: #333333\; FONT-SIZE: 10pt">&nbsp\;<o:p></o:p></SPAN></P><P style="MARGIN: 0in 0in 0pt" align=center><SPAN style="FONT-FAMILY: 'Verdana'\,'sans-serif'\; COLOR: #333333\; FONT-SIZE: 10pt">Mr. Davis has been an influencing force in the banking industry for 34 years and is regularly in Washington D.C. fielding questions from members of Congress\, the President and regulators about the banking industry. He</SPAN><SPAN style="FONT-FAMILY: 'Verdana'\,'sans-serif'\; COLOR: #333333\; FONT-SIZE: 10pt\; mso-ansi-language: EN" lang=EN>&nbsp\;</SPAN><SPAN style="FONT-FAMILY: 'Verdana'\,'sans-serif'\; COLOR: #333333\; FONT-SIZE: 10pt">was named "Banker of the Year" in 2010 by the<SPAN class=apple-converted-space>&nbsp\;</SPAN><I>American Banker</I>.&nbsp\;<o:p></o:p></SPAN></P><P style="MARGIN: 0in 0in 0pt" align=center></SPAN><SPAN style="FONT-FAMILY: 'Verdana'\,'sans-serif'\; COLOR: #333333\; FONT-SIZE: 10pt">&nbsp\;&nbsp\;</SPAN></P><P style="MARGIN: 0in 0in 0pt" align=center><SPAN style="FONT-FAMILY: 'Verdana'\,'sans-serif'\; COLOR: #333333\; FONT-SIZE: 10pt"></SPAN><SPAN style="FONT-FAMILY: 'Verdana'\,'sans-serif'\; COLOR: #333333\; FONT-SIZE: 10pt"><o:p>&nbsp\;</o:p></SPAN></P><P style="MARGIN: 0in 0in 0pt" align=center><SPAN style="FONT-FAMILY: 'Verdana'\,'sans-serif'\; COLOR: #333333\; FONT-SIZE: 10pt">Thursday\, August 18<o:p></o:p></SPAN></P><P style="MARGIN: 0in 0in 0pt" align=center><SPAN style="FONT-FAMILY: 'Verdana'\,'sans-serif'\; COLOR: #333333\; FONT-SIZE: 10pt">RiverCenter\, Davenport<o:p></o:p></SPAN></P><P style="MARGIN: 0in 0in 0pt" align=center><SPAN style="FONT-FAMILY: 'Verdana'\,'sans-serif'\; COLOR: #333333\; FONT-SIZE: 10pt">Registration: 11:30 a.m.<o:p></o:p></SPAN></P><P style="MARGIN: 0in 0in 0pt" align=center><SPAN style="FONT-FAMILY: 'Verdana'\,'sans-serif'\; COLOR: #333333\; FONT-SIZE: 10pt">Program: 12:00 - 1:00 p.m.<o:p></o:p></SPAN></P><P style="MARGIN: 0in 0in 0pt" align=center><SPAN style="FONT-FAMILY: 'Verdana'\,'sans-serif'\; COLOR: #333333\; FONT-SIZE: 10pt">Cost: $25 per person/$200 for a table of 8</SPAN><P style="MARGIN: 0in 0in 0pt"><SPAN style="FONT-FAMILY: 'Verdana'\,'sans-serif'\; COLOR: #333333\; FONT-SIZE: 10pt"></SPAN></P><P></P></DIV>
LOCATION:RiverCenter/Adler Theatre136 E 3rd Street Davenport\, IA 52801
UID:e.2843.178
SEQUENCE:3
DTSTAMP:20260422T161751Z
URL:https://member.quadcitieschamber.com/events/details/annual-meeting-2011-08-18-2011-178
END:VEVENT

END:VCALENDAR
