BEGIN:VCALENDAR
VERSION:2.0
PRODID:-//ChamberMaster//Event Calendar 2.0//EN
METHOD:PUBLISH
X-PUBLISHED-TTL:P3D
REFRESH-INTERVAL:P3D
CALSCALE:GREGORIAN
BEGIN:VEVENT
DTSTART:20120924T160000Z
DTEND:20120924T163000Z
X-MICROSOFT-CDO-ALLDAYEVENT:FALSE
SUMMARY:APAC Customer Services Ribbon Cutting
DESCRIPTION:Please help APAC Customer Services celebrate their expansion with a ribbon cutting on Monday\, September 24th\, 2012 at 11:00am.  Located at 250 E. 90th Street in Davenport – Mt Joy\, west of Hwy 61. For more information\, please visit www.APACJOB.com
X-ALT-DESC;FMTTYPE=text/html:<P style="MARGIN: 0in 0in 0pt" class=MsoNormal><FONT face=Calibri>Please help APAC Customer Services celebrate their expansion with a ribbon cutting on Monday\,&nbsp\;<B style="mso-bidi-font-weight: normal">September 24<SUP>th</SUP></B>\, 2012 at 11:00am.<SPAN style="mso-spacerun: yes">&nbsp\; </SPAN>Located at 250 E. 90<SUP>th</SUP> Street in Davenport – Mt Joy\, west of Hwy 61.</FONT></P><P style="MARGIN: 0in 0in 0pt" class=MsoNormal><?xml:namespace prefix = o ns = "urn:schemas-microsoft-com:office:office" /><o:p><FONT face=Calibri>&nbsp\;</FONT></o:p></P><P style="MARGIN: 0in 0in 0pt" class=MsoNormal><FONT face=Calibri>For more information\, please visit </FONT><A href="http://www.APACJOB.com">www.APACJOB.com</A><FONT face=Calibri> </FONT></P><DIV style="FONT-FAMILY: Arial">&nbsp\;</DIV>
LOCATION:APAC Customer Services\, Inc.250 E. 90th Street Davenport\, IA 52806
UID:e.2843.428
SEQUENCE:3
DTSTAMP:20260421T184201Z
URL:https://member.quadcitieschamber.com/events/details/apac-customer-services-ribbon-cutting-09-24-2012-428
END:VEVENT

END:VCALENDAR
