BEGIN:VCALENDAR
VERSION:2.0
PRODID:-//ChamberMaster//Event Calendar 2.0//EN
METHOD:PUBLISH
X-PUBLISHED-TTL:P3D
REFRESH-INTERVAL:P3D
CALSCALE:GREGORIAN
BEGIN:VEVENT
DTSTART:20110420T121500Z
DTEND:20110420T133000Z
X-MICROSOFT-CDO-ALLDAYEVENT:FALSE
SUMMARY:April Morning Network
DESCRIPTION:Did you know….. in 2014\, the top 5 importers of Iowa manufactured goods and value-added agricultural products included Japan and China?  Meet with Iowa Economic Development Authority – International Trade Office (IEDA-ITO) Trade Specialists representing Taiwan\, Tokyo and China and learn what information\, resources\, and contacts you need to export goods and services to the Asian market. Free to attend\, Reservations Requested.
X-ALT-DESC;FMTTYPE=text/html:<FONT face=Calibri><P style="MARGIN: 0in 0in 0pt" class=MsoNormal>&nbsp\;</P><P style="MARGIN: 0in 0in 0pt" class=MsoNormal>Did you know….. in 2014\, the top 5 importers of Iowa manufactured goods and value-added agricultural products included Japan and China?<?xml:namespace prefix = o ns = "urn:schemas-microsoft-com:office:office" /><o:p></o:p></P></FONT><P style="MARGIN: 0in 0in 0pt" class=MsoNormal><FONT face=Calibri></FONT>&nbsp\;</P><P style="MARGIN: 0in 0in 0pt" class=MsoNormal><FONT face=Calibri></FONT>&nbsp\;</P><P style="MARGIN: 0in 0in 0pt" class=MsoNormal><FONT face=Calibri>Meet with Iowa Economic Development Authority – International Trade Office (IEDA-ITO) Trade Specialists representing Taiwan\, Tokyo and China and learn what information\, resources\, and contacts you need to export goods and services to the Asian market.<o:p></o:p></FONT></P><P style="MARGIN: 0in 0in 0pt" class=MsoNormal><o:p><FONT face=Calibri>&nbsp\;</FONT></o:p></P><P style="MARGIN: 0in 0in 0pt" class=MsoNormal><FONT face=Calibri>Free to attend\, </FONT><FONT face=Calibri>Reservations Requested.<o:p></o:p></FONT></P><P>&nbsp\;</P>
LOCATION:Black Hawk College6600 34th Avenue Moline\, IL 61265
UID:e.2843.141
SEQUENCE:3
DTSTAMP:20260423T005712Z
URL:https://member.quadcitieschamber.com/events/details/april-morning-network-04-20-2011-141
END:VEVENT

END:VCALENDAR
