BEGIN:VCALENDAR
VERSION:2.0
PRODID:-//ChamberMaster//Event Calendar 2.0//EN
METHOD:PUBLISH
X-PUBLISHED-TTL:P3D
REFRESH-INTERVAL:P3D
CALSCALE:GREGORIAN
BEGIN:VEVENT
DTSTART:20130918T130000Z
DTEND:20130918T143000Z
X-MICROSOFT-CDO-ALLDAYEVENT:FALSE
SUMMARY:Are We Prepared to Care
DESCRIPTION:Do you have an aging family member? Know someone with a disability? Have a loved one who has been sick or injured? Or do you use support services to help maintain your own independence or health? Thenthis is for you.\n\nWe have a care gap crisis. Join a community discussion on how Iowa will meet the care and support needs of older Iowans and people with disabilities or health conditions. This isa critical issue for all of us\; add your voice. Open to all\; refreshments provided. With questions\,call 515-237-0338.\n\nCo-hosts: Iow@Work\, AARP\, Iowa CareGivers\, Iowa Department of Public Health\, and Direct Care Workforce Initiative.
X-ALT-DESC;FMTTYPE=text/html:Do you have an aging family member? Know someone with a disability? Have a loved one who has been sick or injured? Or do you use support services to help maintain your own independence or health? Thenthis is for you.\n\nWe have a care gap crisis. Join a community discussion on how Iowa will meet the care and support needs of older Iowans and people with disabilities or health conditions. This isa critical issue for all of us\; add your voice. Open to all\; refreshments provided. With questions\,call 515-237-0338.\n\nCo-hosts: Iow@Work\, AARP\, Iowa CareGivers\, Iowa Department of Public Health\, and Direct Care Workforce Initiative.
LOCATION:Eastern Iowa Community College West Davenport Center2950 N. Fairmount St. Davenport\, IO 52804
UID:e.2843.59
SEQUENCE:3
DTSTAMP:20260421T184158Z
URL:https://member.quadcitieschamber.com/events/details/are-we-prepared-to-care-09-18-2013-59
END:VEVENT

END:VCALENDAR
