BEGIN:VCALENDAR
VERSION:2.0
PRODID:-//ChamberMaster//Event Calendar 2.0//EN
METHOD:PUBLISH
X-PUBLISHED-TTL:P3D
REFRESH-INTERVAL:P3D
CALSCALE:GREGORIAN
BEGIN:VEVENT
DTSTART;VALUE=DATE:20180519
DTEND;VALUE=DATE:20180520
TRANSP:TRANSPARENT
X-MICROSOFT-CDO-ALLDAYEVENT:TRUE
SUMMARY:Armed Forces Day- Run the Rock America Kids Run
DESCRIPTION:To register for this race go to the Get Me Registered link below\, or if your  Interested in becoming a Sponsor call Chris @ 309-782-4420.\n\nwww.getmeregistered.com/riaruntherock
X-ALT-DESC;FMTTYPE=text/html:<p><span style="font-size:16px\;"><span style="font-family:arial\;">To register for this race go to the Get Me Registered link below\, or if your&nbsp\;<a href="https://secure.getmeregistered.com/get_information.php?event_id=128622" style="color: rgb(68\, 138\, 202)\; box-sizing: content-box\; background: none rgb(255\, 255\, 255)\; text-decoration-line: none\; bottom: auto\; clear: none\; content: normal\; direction: inherit\; display: inline\; empty-cells: show\; float: none\; font-variant-numeric: inherit\; font-variant-east-asian: inherit\; font-stretch: inherit\; font-size: 16px\; font-family: Arial\, sans-serif\; left: auto\; line-height: inherit\; margin: 0px\; max-height: none\; max-width: none\; min-height: initial\; min-width: initial\; opacity: 1\; outline-offset: 0px\; overflow: visible\; padding: 0px\; position: static\; resize: none\; right: auto\; table-layout: auto\; text-overflow: clip\; top: auto\; vertical-align: baseline\; visibility: inherit\; word-break: inherit\; word-wrap: break-word\; z-index: auto\; border: none\; border-collapse: separate\; border-radius: 0px\; height: auto\; width: auto\; box-shadow: none\;">&#8203\;</a><span style="color: rgb(39\, 50\, 56)\; background-color: rgb(255\, 255\, 255)\;">Interested in becoming a Sponsor&nbsp\;call Chris @ 309-782-4420.</span></span></span></p>\n\n<p><u style="box-sizing: inherit\; color: rgb(39\, 50\, 56)\; font-family: Arial\, sans-serif\; font-size: 16px\; background-color: rgb(255\, 255\, 255)\;"><span style="box-sizing: content-box\; font-weight: bolder\; bottom: auto\; clear: none\; color: inherit\; content: normal\; direction: inherit\; empty-cells: show\; font-style: inherit\; font-variant: inherit\; font-stretch: inherit\; font-size: inherit\; font-family: inherit\; left: auto\; letter-spacing: inherit\; line-height: inherit\; margin: 0px\; max-height: none\; max-width: none\; min-height: initial\; min-width: initial\; opacity: 1\; outline-offset: 0px\; overflow: visible\; padding: 0px\; position: static\; resize: none\; right: auto\; table-layout: auto\; text-align: inherit\; text-decoration-line: none\; text-indent: inherit\; text-overflow: clip\; text-transform: inherit\; top: auto\; vertical-align: baseline\; visibility: inherit\; white-space: inherit\; word-break: inherit\; word-spacing: inherit\; word-wrap: inherit\; z-index: auto\; background: none\; border: none\; border-collapse: separate\; border-radius: 0px\; height: auto\; width: auto\; box-shadow: none\;"><a href="https://secure.getmeregistered.com/get_information.php?event_id=128622" style="box-sizing: content-box\; background: none\; color: rgb(68\, 138\, 202)\; text-decoration-line: none\; bottom: auto\; clear: none\; content: normal\; direction: inherit\; display: inline\; empty-cells: show\; float: none\; font-style: inherit\; font-variant: inherit\; font-weight: inherit\; font-stretch: inherit\; font-size: inherit\; font-family: inherit\; left: auto\; letter-spacing: inherit\; line-height: inherit\; margin: 0px\; max-height: none\; max-width: none\; min-height: initial\; min-width: initial\; opacity: 1\; outline-offset: 0px\; overflow: visible\; padding: 0px\; position: static\; resize: none\; right: auto\; table-layout: auto\; text-align: inherit\; text-indent: inherit\; text-overflow: clip\; text-transform: inherit\; top: auto\; vertical-align: baseline\; visibility: inherit\; white-space: inherit\; word-break: inherit\; word-spacing: inherit\; word-wrap: break-word\; z-index: auto\; border: none\; border-collapse: separate\; border-radius: 0px\; height: auto\; width: auto\; box-shadow: none\;">www.getmeregistered.com/riaruntherock</a></span></u></p>\n\n<p style="text-align: center\;">&nbsp\;</p>\n\n<p>&nbsp\;</p>\n
LOCATION:Rock Island Arsenal Memorial Park
UID:e.2843.10080
SEQUENCE:3
DTSTAMP:20260423T105951Z
URL:https://member.quadcitieschamber.com/events/details/armed-forces-day-run-the-rock-america-kids-run-10080
END:VEVENT

END:VCALENDAR
