BEGIN:VCALENDAR
VERSION:2.0
PRODID:-//ChamberMaster//Event Calendar 2.0//EN
METHOD:PUBLISH
X-PUBLISHED-TTL:P3D
REFRESH-INTERVAL:P3D
CALSCALE:GREGORIAN
BEGIN:VEVENT
DTSTART:20130520T213000Z
DTEND:20130520T220000Z
X-MICROSOFT-CDO-ALLDAYEVENT:FALSE
SUMMARY:Ascentra Credit Union Grand Opening & Ribbon Cutting
DESCRIPTION:Please help Ascentra Credit Union celebrate the Grand Opening of their new location on Monday\, May 20th at 4:30pm – located on the corner of East 53rd Street & 18th Street in Bettendorf. To learn more about Ascentra Credit Union\, please visit www.Ascentra.org.
X-ALT-DESC;FMTTYPE=text/html:<P style="MARGIN: 0in 0in 0pt" class=MsoNormal><SPAN style="mso-ascii-font-family: Calibri\; mso-hansi-font-family: Calibri"><FONT face=Calibri>Please help Ascentra Credit Union celebrate the Grand Opening of their new location <B style="mso-bidi-font-weight: normal">on Monday\, May 20<SUP>th</SUP> at 4:30pm</B> – located on the corner of East 53<SUP>rd</SUP> Street &amp\; 18<SUP>th</SUP> Street in Bettendorf.<?xml:namespace prefix = o ns = "urn:schemas-microsoft-com:office:office" /><o:p></o:p></FONT></SPAN></P><P style="MARGIN: 0in 0in 0pt" class=MsoNormal><SPAN style="mso-ascii-font-family: Calibri\; mso-hansi-font-family: Calibri"><o:p><FONT face=Calibri>&nbsp\;</FONT></o:p></SPAN></P><P style="MARGIN: 0in 0in 0pt" class=MsoNormal><SPAN style="mso-ascii-font-family: Calibri\; mso-hansi-font-family: Calibri"><FONT face=Calibri>To learn more about Ascentra Credit Union\, please visit </FONT><A href="http://www.Ascentra.org"><FONT face=Calibri>www.Ascentra.org</FONT></A><FONT face=Calibri>.<o:p></o:p></FONT></SPAN></P><DIV style="FONT-FAMILY: Arial">&nbsp\;</DIV>
LOCATION:Ascentra Credit UnionCorner of East 53rd Street & 18th Street Bettendorf\, IA 52722
UID:e.2843.537
SEQUENCE:3
DTSTAMP:20260421T121507Z
URL:https://member.quadcitieschamber.com/events/details/ascentra-credit-union-grand-opening-ribbon-cutting-05-20-2013-537
END:VEVENT

END:VCALENDAR
