BEGIN:VCALENDAR
VERSION:2.0
PRODID:-//ChamberMaster//Event Calendar 2.0//EN
METHOD:PUBLISH
X-PUBLISHED-TTL:P3D
REFRESH-INTERVAL:P3D
CALSCALE:GREGORIAN
BEGIN:VEVENT
DTSTART:20130722T213000Z
DTEND:20130722T220000Z
X-MICROSOFT-CDO-ALLDAYEVENT:FALSE
SUMMARY:Ascentra Credit Union Grand Opening & Ribbon Cutting
DESCRIPTION:Please help Ascentra Credit Union celebrate the Grand Opening of their new location on Monday\, July 22nd at 4:30pm – located at 2339 53rd Avenue\, Bettendorf (Corner of East 53rd Street & 18th Street). To learn more about Ascentra Credit Union\, please visit www.Ascentra.org.
X-ALT-DESC;FMTTYPE=text/html:<P style="MARGIN: 0in 0in 0pt" class=MsoNormal><FONT face=Calibri>Please help Ascentra Credit Union celebrate the Grand Opening of their new location on<B style="mso-bidi-font-weight: normal"> Monday\, July 22<SUP>nd</SUP> at 4:30pm</B> – located at 2339 53<SUP>rd</SUP> Avenue\, Bettendorf (Corner of East 53<SUP>rd</SUP> Street &amp\; 18<SUP>th</SUP> Street).<?xml:namespace prefix = o ns = "urn:schemas-microsoft-com:office:office" /><o:p></o:p></FONT></P><P style="MARGIN: 0in 0in 0pt" class=MsoNormal><o:p><FONT face=Calibri>&nbsp\;</FONT></o:p></P><P style="MARGIN: 0in 0in 0pt" class=MsoNormal><FONT face=Calibri>To learn more about Ascentra Credit Union\, please visit </FONT><A href="http://www.Ascentra.org">www.Ascentra.org</A><FONT face=Calibri>.<o:p></o:p></FONT></P><DIV style="FONT-FAMILY: Arial">&nbsp\;</DIV>
LOCATION:Ascentra Credit Union2339 53rd Avenue Bettendorf\, IA 52722
UID:e.2843.606
SEQUENCE:3
DTSTAMP:20260421T152652Z
URL:https://member.quadcitieschamber.com/events/details/ascentra-credit-union-grand-opening-ribbon-cutting-07-22-2013-606
END:VEVENT

END:VCALENDAR
