BEGIN:VCALENDAR
VERSION:2.0
PRODID:-//ChamberMaster//Event Calendar 2.0//EN
METHOD:PUBLISH
X-PUBLISHED-TTL:P3D
REFRESH-INTERVAL:P3D
CALSCALE:GREGORIAN
BEGIN:VEVENT
DTSTART:20120910T210000Z
DTEND:20120910T213000Z
X-MICROSOFT-CDO-ALLDAYEVENT:FALSE
SUMMARY:Ascentra Credit Union Ground Breaking
DESCRIPTION:Please help Ascentra Credit Union celebrate their Ground Breaking on Monday\, September 10th\, 2012 at 4:00pm.  Located at 53rd and 18th Street in Bettendorf. For more information\, please visit www.ascentra.org
X-ALT-DESC;FMTTYPE=text/html:<P style="MARGIN: 0in 0in 0pt" class=MsoNormal><FONT face=Calibri>Please help Ascentra Credit Union celebrate their Ground Breaking on Monday\, September 10<SUP>th</SUP>\, 2012 at 4:00pm.<SPAN style="mso-spacerun: yes">&nbsp\; </SPAN>Located at 53<SUP>rd</SUP> and 18<SUP>th</SUP> Street in Bettendorf.</FONT></P><P style="MARGIN: 0in 0in 0pt" class=MsoNormal><?xml:namespace prefix = o ns = "urn:schemas-microsoft-com:office:office" /><o:p><FONT face=Calibri>&nbsp\;</FONT></o:p></P><P style="MARGIN: 0in 0in 0pt" class=MsoNormal><FONT face=Calibri>For more information\, please visit </FONT><A href="http://www.ascentra.org"><FONT face="Times New Roman">www.ascentra.org</FONT></A></P><DIV>&nbsp\;</DIV>
LOCATION:Ascentra Credit Union53rd and 18th Street Bettendorf\, IA 52722
UID:e.2843.427
SEQUENCE:3
DTSTAMP:20260421T201453Z
URL:https://member.quadcitieschamber.com/events/details/ascentra-credit-union-ground-breaking-09-10-2012-427
END:VEVENT

END:VCALENDAR
