BEGIN:VCALENDAR
VERSION:2.0
PRODID:-//ChamberMaster//Event Calendar 2.0//EN
METHOD:PUBLISH
X-PUBLISHED-TTL:P3D
REFRESH-INTERVAL:P3D
CALSCALE:GREGORIAN
BEGIN:VEVENT
DTSTART;VALUE=DATE:20180625
DTEND;VALUE=DATE:20180627
TRANSP:TRANSPARENT
X-MICROSOFT-CDO-ALLDAYEVENT:TRUE
SUMMARY:Ashley HomeStore Job Fair
DESCRIPTION:Grow with our family as we open our sister store in Moline\, IL this August 2018!! NOW HIRING Warehouse Supervisor Sales Professional/Design Associates PT Visual Merchandiser PT Office Associates PT Customer Pick-Up Associate.
X-ALT-DESC;FMTTYPE=text/html:<br />\nGrow with our family as we open our sister store in Moline\, IL this August 2018!! NOW HIRING Warehouse Supervisor Sales Professional/Design Associates PT Visual Merchandiser PT Office Associates PT Customer Pick-Up Associate.
LOCATION:Ashley HomeStore - 4800 Elmore Avenue\, Davenport\, IA 52807
UID:e.2843.13319
SEQUENCE:3
DTSTAMP:20260423T092304Z
URL:https://member.quadcitieschamber.com/events/details/ashley-homestore-job-fair-13319
END:VEVENT

END:VCALENDAR
