BEGIN:VCALENDAR
VERSION:2.0
PRODID:-//ChamberMaster//Event Calendar 2.0//EN
METHOD:PUBLISH
X-PUBLISHED-TTL:P3D
REFRESH-INTERVAL:P3D
CALSCALE:GREGORIAN
BEGIN:VEVENT
DTSTART;VALUE=DATE:20180625
DTEND;VALUE=DATE:20180627
TRANSP:TRANSPARENT
X-MICROSOFT-CDO-ALLDAYEVENT:TRUE
SUMMARY:Ashley HomeStore Job Fair - Moline\, IL store opening August 2018!!
DESCRIPTION:Grow with our family as we open our sister store in Moline\, IL August 2018!!\n\nLearn more about our exciting employment opportunities and interview with the Store Manager :)\n\n\n\n*** JOB FAIR ***\n\nMonday\, June 25th 9AM-6PM\n\nTuesday\, June 26th 9AM-6PM\n\nLocation: Ashley HomeStore - 4800 Elmore Avenue\, Davenport\, IA 52807\n\n\n\n*** NOW HIRING ***\n\nWarehouse Supervisor\n\nSales Professional/Design Associates\n\nPT Visual Merchandiser\n\nPT Office Associates\n\nPT Customer Pick-Up Associate (Davenport store)\n\n\n\nLearn more & apply online at https://furnituremartusa.com/careers?city=Moline
X-ALT-DESC;FMTTYPE=text/html:<div>\n<div>\n<div>\n<div>&nbsp\;</div>\n</div>\n</div>\n</div>\n<span style="font-size:16px\;"><span style="font-family:arial\;">Grow with our family as we open our sister store in Moline\, IL August 2018!!<br />\nLearn more about our exciting employment opportunities and interview with the Store Manager :)</span></span><br />\n<br />\n<strong>*** JOB FAIR ***</strong><br />\nMonday\, June 25th 9AM-6PM<br />\nTuesday\, June 26th 9AM-6PM<br />\nLocation: Ashley HomeStore - 4800 Elmore Avenue\, Davenport\, IA 52807<br />\n<br />\n<strong>*** NOW HIRING ***</strong><br />\nWarehouse Supervisor<br />\nSales Professional/Design Associates<br />\nPT Visual Merchandiser<br />\nPT Office Associates<br />\nPT Customer Pick-Up Associate (Davenport store)<br />\n<br />\n<strong>Learn more &amp\; apply online at <a href="https://furnituremartusa.com/careers?city=Moline" rel="nofollow">https://furnituremartusa.com/careers?city=Moline</a></strong>
LOCATION:Ashley HomeStore - 4800 Elmore Avenue\, Davenport\, IA 52807
UID:e.2843.13320
SEQUENCE:3
DTSTAMP:20260423T092554Z
URL:https://member.quadcitieschamber.com/events/details/ashley-homestore-job-fair-moline-il-store-opening-august-2018-13320
END:VEVENT

END:VCALENDAR
