BEGIN:VCALENDAR
VERSION:2.0
PRODID:-//ChamberMaster//Event Calendar 2.0//EN
METHOD:PUBLISH
X-PUBLISHED-TTL:P3D
REFRESH-INTERVAL:P3D
CALSCALE:GREGORIAN
BEGIN:VEVENT
DTSTART:20180118T200000Z
DTEND:20180119T000000Z
X-MICROSOFT-CDO-ALLDAYEVENT:FALSE
SUMMARY:AT&T Call Center Hiring Event in Davenport\, IA
DESCRIPTION:Citywide Call Center Hiring Event with AT&T in Davenport\, Iowa
X-ALT-DESC;FMTTYPE=text/html:Citywide Call Center Hiring Event with AT&amp\;T in Davenport\, Iowa
LOCATION:AT&T Call Center 5348 Elmore Circle Davenport\, IA 52807
UID:e.2843.9971
SEQUENCE:3
DTSTAMP:20260423T165741Z
URL:https://member.quadcitieschamber.com/events/details/at-t-call-center-hiring-event-in-davenport-ia-9971
END:VEVENT

END:VCALENDAR
