BEGIN:VCALENDAR
VERSION:2.0
PRODID:-//ChamberMaster//Event Calendar 2.0//EN
METHOD:PUBLISH
X-PUBLISHED-TTL:P3D
REFRESH-INTERVAL:P3D
CALSCALE:GREGORIAN
BEGIN:VEVENT
DTSTART:20180222T200000Z
DTEND:20180223T000000Z
X-MICROSOFT-CDO-ALLDAYEVENT:FALSE
SUMMARY:AT&T Call Center Priority Hiring Event
DESCRIPTION:WE'RE HIRING THE BEST IN DAVENPORT! Looking for a rewarding career? YOUR calling is calling! Join the Davenport Call Center team and become the voice of our company.
X-ALT-DESC;FMTTYPE=text/html:WE&rsquo\;RE HIRING THE BEST IN DAVENPORT! Looking for a rewarding career? YOUR calling is calling! Join the Davenport Call Center team and become the voice of our company.
LOCATION:AT&T Call Center 5348 Elmore Circle Davenport\, Iowa 52807
UID:e.2843.10050
SEQUENCE:3
DTSTAMP:20260423T153504Z
URL:https://member.quadcitieschamber.com/events/details/at-t-call-center-priority-hiring-event-10050
END:VEVENT

END:VCALENDAR
