BEGIN:VCALENDAR
VERSION:2.0
PRODID:-//ChamberMaster//Event Calendar 2.0//EN
METHOD:PUBLISH
X-PUBLISHED-TTL:P3D
REFRESH-INTERVAL:P3D
CALSCALE:GREGORIAN
BEGIN:VEVENT
DTSTART:20190221T200000Z
DTEND:20190222T000000Z
X-MICROSOFT-CDO-ALLDAYEVENT:FALSE
SUMMARY:AT&T Priority Hiring Event @ Davenport Call Center
DESCRIPTION:Make the right call and stop by our upcoming hiring event to see what opportunities are waiting in our Call Centers.\n\nAT&T Priority Hiring Event\n\nThursday\, February 21st 2019\; 2pm-6pm\n\n5348 Elmore Cir. Davenport\, IA\n\n\nApply & register  http://work.att.jobs/Davenport19
X-ALT-DESC;FMTTYPE=text/html:<p>Make the right call and stop by our upcoming hiring event to see what opportunities are waiting in our Call Centers.</p>\n\n<p>AT&amp\;T Priority Hiring Event<br />\nThursday\, February 21st 2019\; 2pm-6pm<br />\n5348 Elmore Cir. Davenport\, IA</p>\n\n<div>\n<p>Apply &amp\; register&gt\; <a href="http://work.att.jobs/Davenport19?fbclid=IwAR2fnzroWvcJk1Ta1HARHA0Bjc0QhHGwGq7F0xddrdoQRn0nwb_HdeuQM3U" rel="noopener nofollow" target="_blank">http://work.att.jobs/Davenport19</a></p>\n</div>\n
LOCATION:AT&T Call Center
UID:e.2843.13771
SEQUENCE:3
DTSTAMP:20260422T215244Z
URL:https://member.quadcitieschamber.com/events/details/at-t-priority-hiring-event-davenport-call-center-02-21-2019-13771
END:VEVENT

END:VCALENDAR
