BEGIN:VCALENDAR
VERSION:2.0
PRODID:-//ChamberMaster//Event Calendar 2.0//EN
METHOD:PUBLISH
X-PUBLISHED-TTL:P3D
REFRESH-INTERVAL:P3D
CALSCALE:GREGORIAN
BEGIN:VEVENT
DTSTART:20190321T190000Z
DTEND:20190321T230000Z
X-MICROSOFT-CDO-ALLDAYEVENT:FALSE
SUMMARY:AT&T Priority Hiring Event @ Davenport Call Center
DESCRIPTION:Make the right call and stop by our upcoming hiring event to see what opportunities are waiting in our Call Centers.\n\nCandidates will be able to apply\, test\, and interview onsite (for those that qualify)\n\nAT&T Priority Hiring Event\n\nThursday\, March 21st 2019\; 2pm-6pm\n\n5348 Elmore Cir. Davenport\, IA\n\n\nApply & register  http://work.att.jobs/Davenport19
X-ALT-DESC;FMTTYPE=text/html:<p>Make the right call and stop by our upcoming hiring event to see what opportunities are waiting in our Call Centers.<br />\nCandidates will be able to apply\, test\, and interview onsite (for those that qualify)</p>\n\n<p>AT&amp\;T Priority Hiring Event<br />\nThursday\, March 21st 2019\; 2pm-6pm<br />\n5348 Elmore Cir. Davenport\, IA</p>\n\n<div>\n<p>Apply &amp\; register&gt\; <a href="http://work.att.jobs/Davenport19?fbclid=IwAR2fnzroWvcJk1Ta1HARHA0Bjc0QhHGwGq7F0xddrdoQRn0nwb_HdeuQM3U" rel="noopener nofollow" target="_blank">http://work.att.jobs/Davenport19</a></p>\n</div>\n
LOCATION:AT&T Call Center
UID:e.2843.13820
SEQUENCE:3
DTSTAMP:20260422T200232Z
URL:https://member.quadcitieschamber.com/events/details/at-t-priority-hiring-event-davenport-call-center-13820
END:VEVENT

END:VCALENDAR
