BEGIN:VCALENDAR
VERSION:2.0
PRODID:-//ChamberMaster//Event Calendar 2.0//EN
METHOD:PUBLISH
X-PUBLISHED-TTL:P3D
REFRESH-INTERVAL:P3D
CALSCALE:GREGORIAN
BEGIN:VEVENT
DTSTART:20190509T190000Z
DTEND:20190509T230000Z
X-MICROSOFT-CDO-ALLDAYEVENT:FALSE
SUMMARY:AT&T Priority Hiring Event @ Davenport Call Center (5/9/19)
DESCRIPTION:Looking for a new career? Make the right call and stop by our upcoming hiring event to see what opportunities are waiting in our Call Centers.\n\n\n\nAT&T offers paid training\, competitive wages\, benefits\, 401k\, paid vacation\, employee discounts\, tuition reimbursement\, and so much more!\n\n\n\nAT&T Priority Hiring Event\n\nThursday\, May 9th 2019\; 2pm-6pm\n\n5348 Elmore Cir. Davenport\, IA\n\n\nApply & register  http://work.att.jobs/DavenportIA
X-ALT-DESC;FMTTYPE=text/html:<p>Looking for a new career? Make the right call and stop by our upcoming hiring event to see what opportunities are waiting in our Call Centers.<br />\n<br />\nAT&amp\;T offers paid training\, competitive wages\, benefits\, 401k\, paid vacation\, employee discounts\, tuition reimbursement\, and so much more!<br />\n<br />\nAT&amp\;T Priority Hiring Event<br />\nThursday\, May 9th 2019\; 2pm-6pm<br />\n5348 Elmore Cir. Davenport\, IA</p>\n\n<div>\n<p>Apply &amp\; register&gt\; <a href="http://work.att.jobs/DavenportIA?fbclid=IwAR1lTL84cIXgmmfaLz3xGZ7tCsT3I83JPTGpT1AJhYP0Y8bSq0mshSMWHZM" rel="noopener nofollow" target="_blank">http://work.att.jobs/DavenportIA</a></p>\n</div>\n
LOCATION:AT&T Davenport Call Center 348 Elmore Cir. Davenport\, IA
UID:e.2843.15347
SEQUENCE:3
DTSTAMP:20260422T145823Z
URL:https://member.quadcitieschamber.com/events/details/at-t-priority-hiring-event-davenport-call-center-5-9-19-15347
END:VEVENT

END:VCALENDAR
