BEGIN:VCALENDAR
VERSION:2.0
PRODID:-//ChamberMaster//Event Calendar 2.0//EN
METHOD:PUBLISH
X-PUBLISHED-TTL:P3D
REFRESH-INTERVAL:P3D
CALSCALE:GREGORIAN
BEGIN:VEVENT
DTSTART:20120412T170000Z
DTEND:20120412T183000Z
X-MICROSOFT-CDO-ALLDAYEVENT:FALSE
SUMMARY:ATHENA Awards 2012
DESCRIPTION:Presented in partnership by the Quad Cities Chamber of Commerce and Women's Connection\, the ATHENA Awards program\, in affiliation with ATHENA International\, elevates and honors women who are setting a gold standard in their business and community leadership\, and who are helping to bring along the next generation of women leaders.  Since 1982\, more than 6\,000 ATHENA Awards have been presented by ATHENA International in more than 500 communities in the United States\, Canada\, Russia\, China\, United Arab Emirates and the United Kingdom. During our 2012 ATHENA Award Event\, we will recognize our deserving 2012 ATHENA honorees and will announce our 2012 ATHENA Award recipient. The 2012 ATHENA Award Event will be held on April 12\, 2012\, Noon\, at Jumer's Hotel and Casino\, Rock Island. Mark your calendars!     \n  Thank you to our Presenting Sponsor: Missman\, Inc. Thank you to our Gold Sponsors: Integrity IntegratedRuhl & Ruhl Realtors         The Women's Connection is a non-profit 501(C)(3) organization with a mission to inspire\, educate and connect women.  Thank you to our longstanding corporate sponsors\, Royal Neighbors of America and Trinity Regional Health System. 230 16th Street   Rock Island\, IL 61201           309.631.0167                 info@womens-connection.org
X-ALT-DESC;FMTTYPE=text/html:<P align=center>&nbsp\;</P><DIV align=center><TABLE style="WIDTH: 6.25in\; mso-cellspacing: 0in\; mso-yfti-tbllook: 1184\; mso-padding-alt: 0in 0in 0in 0in" class=MsoNormalTable border=0 cellSpacing=0 cellPadding=0 width=600><TBODY><TR style="mso-yfti-irow: 0\; mso-yfti-firstrow: yes"><TD style="BORDER-BOTTOM: #ece9d8\; BORDER-LEFT: #ece9d8\; PADDING-BOTTOM: 0in\; BACKGROUND-COLOR: transparent\; PADDING-LEFT: 0in\; WIDTH: 100%\; PADDING-RIGHT: 0in\; BORDER-TOP: #ece9d8\; BORDER-RIGHT: #ece9d8\; PADDING-TOP: 0in" width="100%"><TABLE style="WIDTH: 100%\; mso-cellspacing: 0in\; mso-yfti-tbllook: 1184\; mso-padding-alt: 0in 0in 0in 0in" class=MsoNormalTable border=0 cellSpacing=0 cellPadding=0 width="100%"><TBODY><TR style="mso-yfti-irow: 0\; mso-yfti-firstrow: yes\; mso-yfti-lastrow: yes"><TD style="BORDER-BOTTOM: #ece9d8\; BORDER-LEFT: #ece9d8\; PADDING-BOTTOM: 0in\; BACKGROUND-COLOR: transparent\; PADDING-LEFT: 0in\; PADDING-RIGHT: 0in\; BORDER-TOP: #ece9d8\; BORDER-RIGHT: #ece9d8\; PADDING-TOP: 0in"><P style="TEXT-ALIGN: center\; MARGIN: 0in 0in 0pt" align=center><A href="http://r20.rs6.net/tn.jsp?llr=scnzmehab&amp\;et=1108624397409&amp\;s=273&amp\;e=001hfh6uEC3Polj26SMWgNL1EAxa9UMdr9eH45jZj62h2bMhFvCM68e_4FWB3Pv5v8LyBkOPPMMJVKvdYJTXV1IAVSs54FarRaPj4cqfwvUuKpwWEHwqGwE6Q=="><SPAN style="TEXT-DECORATION: none\; text-underline: none"></SPAN></A>&nbsp\;&nbsp\;<?xml:namespace prefix = o ns = "urn:schemas-microsoft-com:office:office" /><o:p></o:p></P></TD></TR></TBODY></TABLE><P style="MARGIN: 0in 0in 0pt" class=MsoNormal><SPAN style="DISPLAY: none\; mso-hide: all"><o:p>&nbsp\;</o:p></SPAN></P><TABLE style="WIDTH: 100%\; BACKGROUND: #004f6d\; mso-cellspacing: 0in\; mso-yfti-tbllook: 1184\; mso-padding-alt: 0in 0in 0in 0in" class=MsoNormalTable border=0 cellSpacing=0 cellPadding=0 width="100%"><TBODY><TR style="mso-yfti-irow: 0\; mso-yfti-firstrow: yes\; mso-yfti-lastrow: yes"><TD style="BORDER-BOTTOM: #ece9d8\; BORDER-LEFT: #ece9d8\; PADDING-BOTTOM: 2.25pt\; BACKGROUND-COLOR: transparent\; PADDING-LEFT: 3.75pt\; WIDTH: 50%\; PADDING-RIGHT: 2.25pt\; BORDER-TOP: #ece9d8\; BORDER-RIGHT: #ece9d8\; PADDING-TOP: 2.25pt" vAlign=top width="50%"></TD><TD style="BORDER-BOTTOM: #ece9d8\; BORDER-LEFT: #ece9d8\; PADDING-BOTTOM: 2.25pt\; BACKGROUND-COLOR: transparent\; PADDING-LEFT: 2.25pt\; WIDTH: 50%\; PADDING-RIGHT: 3.75pt\; BORDER-TOP: #ece9d8\; BORDER-RIGHT: #ece9d8\; PADDING-TOP: 2.25pt" vAlign=top width="50%"></TD></TR></TBODY></TABLE><P style="MARGIN: 0in 0in 0pt" class=MsoNormal><SPAN style="mso-fareast-font-family: 'Times New Roman'"><o:p></o:p></SPAN></P></TD></TR><TR style="mso-yfti-irow: 1\; mso-yfti-lastrow: yes"><TD style="BORDER-BOTTOM: #ece9d8\; BORDER-LEFT: #ece9d8\; PADDING-BOTTOM: 0in\; PADDING-LEFT: 0in\; WIDTH: 100%\; PADDING-RIGHT: 0in\; BACKGROUND: white\; BORDER-TOP: #ece9d8\; BORDER-RIGHT: #ece9d8\; PADDING-TOP: 0in" vAlign=top width="100%"><DIV align=left><TABLE style="WIDTH: 100%\; mso-cellspacing: 0in\; mso-yfti-tbllook: 1184\; mso-padding-alt: 0in 0in 0in 0in" class=MsoNormalTable border=0 cellSpacing=0 cellPadding=0 width="100%"><TBODY><TR style="mso-yfti-irow: 0\; mso-yfti-firstrow: yes"><TD style="BORDER-BOTTOM: #ece9d8\; BORDER-LEFT: #ece9d8\; PADDING-BOTTOM: 0in\; BACKGROUND-COLOR: transparent\; PADDING-LEFT: 0in\; WIDTH: 100%\; PADDING-RIGHT: 0in\; BORDER-TOP: #ece9d8\; BORDER-RIGHT: #ece9d8\; PADDING-TOP: 0in" width="100%"><TABLE style="WIDTH: 100%\; mso-cellspacing: 0in\; mso-yfti-tbllook: 1184\; mso-padding-alt: 0in 0in 0in 0in" class=MsoNormalTable border=0 cellSpacing=0 cellPadding=0 width="100%"><TBODY><TR style="mso-yfti-irow: 0\; mso-yfti-firstrow: yes\; mso-yfti-lastrow: yes"><TD style="BORDER-BOTTOM: #ece9d8\; BORDER-LEFT: #ece9d8\; PADDING-BOTTOM: 0in\; PADDING-LEFT: 0in\; WIDTH: 6.25in\; PADDING-RIGHT: 0in\; BACKGROUND: white\; BORDER-TOP: #ece9d8\; BORDER-RIGHT: #ece9d8\; PADDING-TOP: 0in" vAlign=top width=600><TABLE style="WIDTH: 100%\; BACKGROUND: white\; mso-cellspacing: 0in\; mso-yfti-tbllook: 1184\; mso-padding-alt: 0in 0in 0in 0in" class=MsoNormalTable border=0 cellSpacing=0 cellPadding=0 width="100%"><TBODY><TR style="mso-yfti-irow: 0\; mso-yfti-firstrow: yes"><TD style="BORDER-BOTTOM: #ece9d8\; BORDER-LEFT: #ece9d8\; PADDING-BOTTOM: 3.75pt\; BACKGROUND-COLOR: transparent\; PADDING-LEFT: 3.75pt\; PADDING-RIGHT: 3.75pt\; BORDER-TOP: #ece9d8\; BORDER-RIGHT: #ece9d8\; PADDING-TOP: 3.75pt"><P style="MARGIN: 0in 0in 0pt"><SPAN style="FONT-FAMILY: 'Arial'\,'sans-serif'\; COLOR: #004f6d">&nbsp\;<o:p></o:p></SPAN></P><P style="MARGIN: 0in 0in 0pt"><SPAN style="FONT-FAMILY: 'Arial'\,'sans-serif'\; COLOR: #4b4a4a\; FONT-SIZE: 10pt">Presented in partnership by the Quad Cities Chamber of Commerce and Women's</SPAN><SPAN style="FONT-FAMILY: 'Arial'\,'sans-serif'\; COLOR: #4b4a4a"> </SPAN><SPAN style="FONT-FAMILY: 'Arial'\,'sans-serif'\; COLOR: #4b4a4a\; FONT-SIZE: 10pt">Connection\, the ATHENA Awards program\, in affiliation with ATHENA International\,&nbsp\;elevates and honors women who are setting a gold standard in their business and community leadership\, and who are helping to bring along the next generation of women leaders.&nbsp\;</SPAN><SPAN style="FONT-FAMILY: 'Arial'\,'sans-serif'\; COLOR: #004f6d"><o:p></o:p></SPAN></P><P style="MARGIN: 0in 0in 0pt"><SPAN style="FONT-FAMILY: 'Arial'\,'sans-serif'\; COLOR: #4b4a4a\; FONT-SIZE: 10pt">&nbsp\;</SPAN><SPAN style="FONT-FAMILY: 'Arial'\,'sans-serif'\; COLOR: #004f6d"><o:p></o:p></SPAN></P><P style="MARGIN: 0in 0in 0pt"><SPAN style="FONT-FAMILY: 'Arial'\,'sans-serif'\; COLOR: #4b4a4a\; FONT-SIZE: 10pt">Since 1982\, more than 6\,000 ATHENA Awards have been presented by ATHENA International in more than 500 communities in the United States\, Canada\, Russia\, China\, United Arab Emirates and the United Kingdom. During our 2012 ATHENA Award Event\, we&nbsp\;will recognize our deserving 2012 ATHENA honorees and will announce our 2012 ATHENA Award recipient. The 2012 ATHENA Award Event will be held on April 12\, 2012\,&nbsp\;Noon\, at Jumer's Hotel and Casino\, Rock Island. Mark your calendars!</SPAN><SPAN style="FONT-FAMILY: 'Arial'\,'sans-serif'\; COLOR: #004f6d"><o:p></o:p></SPAN></P><P style="MARGIN: 0in 0in 0pt"><SPAN style="FONT-FAMILY: 'Arial'\,'sans-serif'\; COLOR: #4b4a4a\; FONT-SIZE: 10pt">&nbsp\;</SPAN><SPAN style="FONT-FAMILY: 'Arial'\,'sans-serif'\; COLOR: #4b4a4a">&nbsp\;</SPAN></P></TD></TR><TR style="mso-yfti-irow: 1\; mso-yfti-lastrow: yes"><TD style="BORDER-BOTTOM: #ece9d8\; BORDER-LEFT: #ece9d8\; PADDING-BOTTOM: 3.75pt\; BACKGROUND-COLOR: transparent\; PADDING-LEFT: 3.75pt\; PADDING-RIGHT: 3.75pt\; BORDER-TOP: #ece9d8\; BORDER-RIGHT: #ece9d8\; PADDING-TOP: 3.75pt"><P style="MARGIN: 0in 0in 0pt"><SPAN style="FONT-FAMILY: 'Arial'\,'sans-serif'\; COLOR: #4b4a4a\; FONT-SIZE: 10pt"><o:p></o:p></SPAN></P></TD></TR></TBODY></TABLE></TD><TD style="BORDER-BOTTOM: #ece9d8\; BORDER-LEFT: #ece9d8\; PADDING-BOTTOM: 0in\; BACKGROUND-COLOR: transparent\; PADDING-LEFT: 0in\; WIDTH: 0.3pt\; PADDING-RIGHT: 0in\; BORDER-TOP: #ece9d8\; BORDER-RIGHT: #ece9d8\; PADDING-TOP: 0in" vAlign=top width=0></TD></TR></TBODY></TABLE></TD></TR><TR style="mso-yfti-irow: 1\; mso-yfti-lastrow: yes"><TD style="BORDER-BOTTOM: #ece9d8\; BORDER-LEFT: #ece9d8\; PADDING-BOTTOM: 0in\; BACKGROUND-COLOR: transparent\; PADDING-LEFT: 0in\; WIDTH: 100%\; PADDING-RIGHT: 0in\; BORDER-TOP: #ece9d8\; BORDER-RIGHT: #ece9d8\; PADDING-TOP: 0in" width="100%"><TABLE style="WIDTH: 100%\; mso-cellspacing: 0in\; mso-yfti-tbllook: 1184\; mso-padding-alt: 0in 0in 0in 0in" class=MsoNormalTable border=0 cellSpacing=0 cellPadding=0 width="100%"><TBODY><TR style="mso-yfti-irow: 0\; mso-yfti-firstrow: yes\; mso-yfti-lastrow: yes"><TD style="BORDER-BOTTOM: #ece9d8\; BORDER-LEFT: #ece9d8\; PADDING-BOTTOM: 0in\; BACKGROUND-COLOR: transparent\; PADDING-LEFT: 0in\; WIDTH: 100%\; PADDING-RIGHT: 0in\; BORDER-TOP: #ece9d8\; BORDER-RIGHT: #ece9d8\; PADDING-TOP: 0in" width="100%"><TABLE style="WIDTH: 100%\; BACKGROUND: #004f6d\; mso-cellspacing: 0in\; mso-yfti-tbllook: 1184\; mso-padding-alt: 0in 0in 0in 0in" class=MsoNormalTable border=0 cellSpacing=0 cellPadding=0 width="100%"><TBODY><TR style="mso-yfti-irow: 0\; mso-yfti-firstrow: yes\; mso-yfti-lastrow: yes"><TD style="BORDER-BOTTOM: #ece9d8\; BORDER-LEFT: #ece9d8\; PADDING-BOTTOM: 2.25pt\; BACKGROUND-COLOR: transparent\; PADDING-LEFT: 2.25pt\; WIDTH: 50%\; PADDING-RIGHT: 2.25pt\; BORDER-TOP: #ece9d8\; BORDER-RIGHT: #ece9d8\; PADDING-TOP: 2.25pt" vAlign=top width="50%"><P style="MARGIN: 0in 0in 0pt" class=MsoNormal><SPAN style="FONT-FAMILY: 'Arial Narrow'\,'sans-serif'\; COLOR: white\; FONT-SIZE: 3pt">&nbsp\;<o:p></o:p></SPAN></P></TD><TD style="BORDER-BOTTOM: #ece9d8\; BORDER-LEFT: #ece9d8\; PADDING-BOTTOM: 2.25pt\; BACKGROUND-COLOR: transparent\; PADDING-LEFT: 2.25pt\; WIDTH: 50%\; PADDING-RIGHT: 2.25pt\; BORDER-TOP: #ece9d8\; BORDER-RIGHT: #ece9d8\; PADDING-TOP: 2.25pt" vAlign=top width="50%"><P style="TEXT-ALIGN: right\; MARGIN: 0in 0in 0pt" align=right><SPAN style="FONT-FAMILY: 'Arial Narrow'\,'sans-serif'\; COLOR: white\; FONT-SIZE: 3pt">&nbsp\;<o:p></o:p></SPAN></P></TD></TR></TBODY></TABLE><P style="MARGIN: 0in 0in 0pt" class=MsoNormal><SPAN style="DISPLAY: none\; mso-hide: all"><o:p>&nbsp\;</o:p></SPAN></P><TABLE style="WIDTH: 100%\; DISPLAY: table\; BACKGROUND: white\; mso-cellspacing: 0in\; mso-yfti-tbllook: 1184\; mso-padding-alt: 0in 0in 0in 0in" class=MsoNormalTable border=0 cellSpacing=0 cellPadding=0 width="100%"><TBODY><TR style="mso-yfti-irow: 0\; mso-yfti-firstrow: yes"><TD style="BORDER-BOTTOM: #ece9d8\; BORDER-LEFT: #ece9d8\; PADDING-BOTTOM: 3.75pt\; BACKGROUND-COLOR: transparent\; PADDING-LEFT: 3.75pt\; PADDING-RIGHT: 3.75pt\; BORDER-TOP: #ece9d8\; BORDER-RIGHT: #ece9d8\; PADDING-TOP: 3.75pt"><P style="MARGIN: 0in 0in 0pt"><SPAN style="FONT-FAMILY: 'Arial'\,'sans-serif'\; COLOR: #004f6d"><BR>&nbsp\;&nbsp\;<o:p></o:p></SPAN></P></TD></TR><TR style="mso-yfti-irow: 1\; mso-yfti-lastrow: yes"><TD style="BORDER-BOTTOM: #ece9d8\; BORDER-LEFT: #ece9d8\; PADDING-BOTTOM: 3.75pt\; BACKGROUND-COLOR: transparent\; PADDING-LEFT: 3.75pt\; PADDING-RIGHT: 3.75pt\; BORDER-TOP: #ece9d8\; BORDER-RIGHT: #ece9d8\; PADDING-TOP: 3.75pt"><P style="TEXT-ALIGN: center\; MARGIN: 0in 0in 0pt" align=center><STRONG><SPAN style="FONT-FAMILY: 'Arial'\,'sans-serif'\; COLOR: black\; FONT-SIZE: 10pt">Thank you to our Presenting Sponsor:</SPAN></STRONG><SPAN style="FONT-FAMILY: 'Arial'\,'sans-serif'\; COLOR: #666666\; FONT-SIZE: 10pt"><o:p></o:p></SPAN></P><P style="TEXT-ALIGN: center\; MARGIN: 0in 0in 0pt" align=center><STRONG><SPAN style="FONT-FAMILY: 'Arial'\,'sans-serif'\; COLOR: #666666\; FONT-SIZE: 10pt">&nbsp\;</SPAN></STRONG></P><P style="TEXT-ALIGN: center\; MARGIN: 0in 0in 0pt" align=center><STRONG><SPAN style="FONT-FAMILY: 'Arial'\,'sans-serif'\; COLOR: #666666\; FONT-SIZE: 10pt">Missman\, Inc.</SPAN></STRONG></P><P style="TEXT-ALIGN: center\; MARGIN: 0in 0in 0pt" align=center><STRONG><SPAN style="FONT-FAMILY: 'Arial'\,'sans-serif'\; COLOR: #666666\; FONT-SIZE: 10pt"></SPAN></STRONG><SPAN style="FONT-FAMILY: 'Arial'\,'sans-serif'\; COLOR: #666666\; FONT-SIZE: 10pt"><o:p></o:p></SPAN>&nbsp\;</P><P style="TEXT-ALIGN: center\; MARGIN: 0in 0in 0pt" align=center><SPAN style="FONT-FAMILY: 'Arial'\,'sans-serif'\; COLOR: #666666\; FONT-SIZE: 10pt"><o:p></o:p></SPAN></P><P style="TEXT-ALIGN: center\; MARGIN: 0in 0in 0pt" align=center><SPAN style="FONT-FAMILY: 'Arial'\,'sans-serif'\; COLOR: #666666\; FONT-SIZE: 10pt"></SPAN></P><P style="TEXT-ALIGN: center\; MARGIN: 0in 0in 0pt" align=center><STRONG><SPAN style="FONT-FAMILY: 'Helvetica'\,'sans-serif'\; COLOR: black\; FONT-SIZE: 10pt">Thank you to our Gold Sponsors:</SPAN></STRONG><SPAN style="FONT-FAMILY: 'Arial'\,'sans-serif'\; COLOR: #666666\; FONT-SIZE: 10pt"><o:p></o:p></SPAN></P><P style="TEXT-ALIGN: center\; MARGIN: 0in 0in 0pt" align=center><SPAN style="FONT-FAMILY: 'Helvetica'\,'sans-serif'\; COLOR: #4b4a4a\; FONT-SIZE: 10pt">&nbsp\;</SPAN><SPAN style="FONT-FAMILY: 'Arial'\,'sans-serif'\; COLOR: #666666\; FONT-SIZE: 10pt"><o:p></o:p></SPAN></P><P style="TEXT-ALIGN: center\; MARGIN: 0in 0in 0pt" align=center><SPAN style="FONT-FAMILY: 'Helvetica'\,'sans-serif'\; COLOR: black\; FONT-SIZE: 10pt">Integrity Integrated</SPAN><SPAN style="FONT-FAMILY: 'Arial'\,'sans-serif'\; COLOR: #666666\; FONT-SIZE: 10pt"><o:p></o:p></SPAN></P><P style="TEXT-ALIGN: center\; MARGIN: 0in 0in 0pt" align=center><SPAN style="FONT-FAMILY: 'Helvetica'\,'sans-serif'\; COLOR: black\; FONT-SIZE: 10pt">Ruhl &amp\; Ruhl Realtors</SPAN><SPAN style="FONT-FAMILY: 'Arial'\,'sans-serif'\; COLOR: #666666\; FONT-SIZE: 10pt"><o:p></o:p></SPAN></P><P style="TEXT-ALIGN: center\; MARGIN: 0in 0in 0pt" align=center><SPAN style="FONT-FAMILY: 'Helvetica'\,'sans-serif'\; COLOR: #4b4a4a\; FONT-SIZE: 10pt">&nbsp\;</SPAN><SPAN style="FONT-FAMILY: 'Arial'\,'sans-serif'\; COLOR: #666666\; FONT-SIZE: 10pt"><o:p></o:p></SPAN></P><P style="TEXT-ALIGN: center\; MARGIN: 0in 0in 0pt" align=center><SPAN style="FONT-FAMILY: 'Arial'\,'sans-serif'\; COLOR: #666666\; FONT-SIZE: 10pt">&nbsp\;<o:p></o:p></SPAN></P><P style="TEXT-ALIGN: center\; MARGIN: 0in 0in 0pt" align=center><SPAN style="FONT-FAMILY: 'Arial'\,'sans-serif'\; COLOR: #666666\; FONT-SIZE: 10pt">&nbsp\;<o:p></o:p></SPAN></P><P style="TEXT-ALIGN: center\; MARGIN: 0in 0in 0pt" align=center><SPAN style="FONT-FAMILY: 'Arial'\,'sans-serif'\; COLOR: #666666\; FONT-SIZE: 10pt">&nbsp\;</SPAN><SPAN style="FONT-FAMILY: 'Arial'\,'sans-serif'\; COLOR: #666666\; FONT-SIZE: 10pt">&nbsp\;<o:p></o:p></SPAN></P></TD></TR></TBODY></TABLE><P style="MARGIN: 0in 0in 0pt" class=MsoNormal><SPAN style="DISPLAY: none\; mso-hide: all"><o:p>&nbsp\;</o:p></SPAN></P><TABLE style="WIDTH: 100%\; BACKGROUND: #004f6d\; mso-cellspacing: 0in\; mso-yfti-tbllook: 1184\; mso-padding-alt: 0in 0in 0in 0in" class=MsoNormalTable border=0 cellSpacing=0 cellPadding=0 width="100%"><TBODY><TR style="mso-yfti-irow: 0\; mso-yfti-firstrow: yes\; mso-yfti-lastrow: yes"><TD style="BORDER-BOTTOM: #ece9d8\; BORDER-LEFT: #ece9d8\; PADDING-BOTTOM: 3.75pt\; BACKGROUND-COLOR: transparent\; PADDING-LEFT: 3.75pt\; PADDING-RIGHT: 3.75pt\; BORDER-TOP: #ece9d8\; BORDER-RIGHT: #ece9d8\; PADDING-TOP: 3.75pt"><P style="TEXT-ALIGN: center\; MARGIN: 0in 0in 0pt" align=center><SPAN style="FONT-FAMILY: 'Arial'\,'sans-serif'\; COLOR: white">&nbsp\;&nbsp\;<o:p></o:p></SPAN></P><P style="TEXT-ALIGN: center\; MARGIN: 0in 0in 0pt" align=center><SPAN style="FONT-FAMILY: 'Arial'\,'sans-serif'\; COLOR: white">&nbsp\;The Women's Connection is a non-profit 501(C)(3) organization with a mission to inspire\, educate and connect women.&nbsp\; Thank you to our longstanding corporate sponsors\, Royal Neighbors of America and Trinity Regional Health System.</SPAN></P></TD></TR></TBODY></TABLE><P style="MARGIN: 0in 0in 0pt" class=MsoNormal><SPAN style="DISPLAY: none\; mso-hide: all"><o:p>&nbsp\;</o:p></SPAN></P><TABLE style="WIDTH: 100%\; mso-cellspacing: 0in\; mso-yfti-tbllook: 1184\; mso-padding-alt: 0in 0in 0in 0in" class=MsoNormalTable border=0 cellSpacing=0 cellPadding=0 width="100%"><TBODY><TR style="mso-yfti-irow: 0\; mso-yfti-firstrow: yes"><TD style="BORDER-BOTTOM: #ece9d8\; BORDER-LEFT: #ece9d8\; PADDING-BOTTOM: 0in\; PADDING-LEFT: 0in\; PADDING-RIGHT: 0in\; BACKGROUND: #ff7f1e\; BORDER-TOP: #ece9d8\; BORDER-RIGHT: #ece9d8\; PADDING-TOP: 0in\; ih-name: "></TD></TR><TR style="mso-yfti-irow: 1\; mso-yfti-lastrow: yes"><TD style="BORDER-BOTTOM: #ece9d8\; BORDER-LEFT: #ece9d8\; PADDING-BOTTOM: 0in\; BACKGROUND-COLOR: transparent\; PADDING-LEFT: 0in\; PADDING-RIGHT: 0in\; BORDER-TOP: #ece9d8\; BORDER-RIGHT: #ece9d8\; PADDING-TOP: 0in"><P style="TEXT-ALIGN: center\; MARGIN: 0in 0in 0pt" class=MsoNormal align=center><SPAN style="FONT-FAMILY: 'Arial'\,'sans-serif'\; COLOR: #004f6d\; FONT-SIZE: 8pt">230 16th Street&nbsp\;&nbsp\; Rock Island\, IL 61201&nbsp\;&nbsp\;&nbsp\;&nbsp\;&nbsp\;&nbsp\;&nbsp\;&nbsp\;&nbsp\;&nbsp\; 309.631.0167&nbsp\;&nbsp\;&nbsp\;&nbsp\;&nbsp\;&nbsp\;&nbsp\;&nbsp\;&nbsp\;&nbsp\;&nbsp\;&nbsp\;&nbsp\;&nbsp\;&nbsp\;&nbsp\; <A href="mailto:info@womens-connection.org">info@womens-connection.org</A></SPAN></P></TD></TR></TBODY></TABLE><P style="MARGIN: 0in 0in 0pt" class=MsoNormal><SPAN style="mso-fareast-font-family: 'Times New Roman'"><o:p></o:p></SPAN></P></TD></TR></TBODY></TABLE><DIV><SPAN style="FONT-FAMILY: Tahoma\; FONT-SIZE: 10pt"></SPAN></DIV></TD></TR></TBODY></TABLE></DIV><P style="TEXT-ALIGN: center\; MARGIN: 0in 0in 0pt\; mso-margin-top-alt: auto\; mso-margin-bottom-alt: auto" class=MsoNormal align=center><SPAN style="FONT-FAMILY: 'Arial'\,'sans-serif'\; FONT-SIZE: 10pt\; mso-fareast-font-family: 'Times New Roman'"><o:p></o:p></SPAN>&nbsp\;</P></TD></TR></TBODY></TABLE></DIV>
LOCATION:Jumer's Casino and Hotel777 Jumer Drive Rock Island\, IL 61201
UID:e.2843.214
SEQUENCE:3
DTSTAMP:20260420T085554Z
URL:https://member.quadcitieschamber.com/events/details/athena-awards-2012-04-12-2012-214
END:VEVENT

END:VCALENDAR
