BEGIN:VCALENDAR
VERSION:2.0
PRODID:-//ChamberMaster//Event Calendar 2.0//EN
METHOD:PUBLISH
X-PUBLISHED-TTL:P3D
REFRESH-INTERVAL:P3D
CALSCALE:GREGORIAN
BEGIN:VEVENT
DTSTART:20131107T060000Z
DTEND:20131107T060000Z
X-MICROSOFT-CDO-ALLDAYEVENT:FALSE
SUMMARY:AUSA Recognition Dinner 2013
DESCRIPTION:AUSA Recognition Dinner 2013
X-ALT-DESC;FMTTYPE=text/html:AUSA Recognition Dinner 2013
LOCATION:Quad Cities River Bandits
UID:e.2843.1948
SEQUENCE:3
DTSTAMP:20260421T215702Z
URL:https://member.quadcitieschamber.com/events/details/ausa-recognition-dinner-2013-11-07-2013-1948
END:VEVENT

END:VCALENDAR
