BEGIN:VCALENDAR
VERSION:2.0
PRODID:-//ChamberMaster//Event Calendar 2.0//EN
METHOD:PUBLISH
X-PUBLISHED-TTL:P3D
REFRESH-INTERVAL:P3D
CALSCALE:GREGORIAN
BEGIN:VEVENT
DTSTART:20180719T223000Z
DTEND:20180719T233000Z
X-MICROSOFT-CDO-ALLDAYEVENT:FALSE
SUMMARY:Auto Buying 101
DESCRIPTION:R.I.A. Federal Credit Union will be conducting a workshop to help educate people about the auto buying process\, to include a discussion about credit scores\, auto loans\, and other items to consider when car shopping. This free event will take place in the Bettendorf Corporate Center located at 4343 Utica Ridge Road and is open to members and non-members. Dinner will be provided. Space is limited. Email jward@riafcu.com by July 16th to reserve a spot.
X-ALT-DESC;FMTTYPE=text/html:<br />\nR.I.A. Federal Credit Union will be conducting a workshop to help educate people about the auto buying process\, to include a discussion about credit scores\, auto loans\, and other items to consider when car shopping. This free event will take place in the Bettendorf Corporate Center located at 4343 Utica Ridge Road and is open to members and non-members. Dinner will be provided. Space is limited. Email jward@riafcu.com by July 16th to reserve a spot.
LOCATION:R.I.A. Federal Credit Union\, 4343 Utica Ridge Road\, Bettendorf
UID:e.2843.13330
SEQUENCE:3
DTSTAMP:20260423T074452Z
URL:https://member.quadcitieschamber.com/events/details/auto-buying-101-13330
END:VEVENT

END:VCALENDAR
