BEGIN:VCALENDAR
VERSION:2.0
PRODID:-//ChamberMaster//Event Calendar 2.0//EN
METHOD:PUBLISH
X-PUBLISHED-TTL:P3D
REFRESH-INTERVAL:P3D
CALSCALE:GREGORIAN
BEGIN:VEVENT
DTSTART:20130921T030000Z
DTEND:20130921T033000Z
X-MICROSOFT-CDO-ALLDAYEVENT:FALSE
SUMMARY:BankORION Grand Opening
DESCRIPTION:Please join BankORION in celebrating the grand opening of their new location on Friday\, September 20th at 10:00 a.m.  Located at 1855 Middle Rd. Bettendorf\, IA 52722.  http://mapq.st/1axmD3k.  BankORION specializes in providing consumer\, business and agricultural financial services.  To learn more please visit http://bankorion.com/. \nThank You\,
X-ALT-DESC;FMTTYPE=text/html:<DIV style="FONT-FAMILY: Arial"><P style="MARGIN: 0in 0in 0pt" class=MsoNormal><FONT face=Calibri>Please join BankORION in celebrating the grand opening of their new location on <B style="mso-bidi-font-weight: normal">Friday\, September 20th at 10:00 a.m.&nbsp\; </B>Located at 1855 Middle Rd. Bettendorf\, IA 52722.<SPAN style="mso-spacerun: yes">&nbsp\; </SPAN></FONT><A href="http://mapq.st/1axmD3k"><FONT face="Times New Roman">http://mapq.st/1axmD3k</FONT></A><FONT face=Calibri>. <?xml:namespace prefix = o ns = "urn:schemas-microsoft-com:office:office" /><o:p></o:p></FONT></P><P style="MARGIN: 0in 0in 0pt" class=MsoNormal><o:p><FONT face=Calibri>&nbsp\;</FONT></o:p></P><P style="MARGIN: 0in 0in 0pt" class=MsoNormal><FONT face=Calibri>BankORION specializes in providing consumer\, business and agricultural financial services.<SPAN style="mso-spacerun: yes">&nbsp\; </SPAN>To learn more please visit </FONT><A href="http://bankorion.com/"><FONT face="Times New Roman">http://bankorion.com/</FONT></A><FONT face=Calibri>. <o:p></o:p></FONT></P><P style="MARGIN: 0in 0in 0pt" class=MsoNormal><BR><FONT face=Calibri>Thank You\,<o:p></o:p></FONT></P></DIV>
LOCATION:BankORION1855 Middle Rd. Bettendorf\, IA 52722
UID:e.2843.691
SEQUENCE:3
DTSTAMP:20260421T201712Z
URL:https://member.quadcitieschamber.com/events/details/bankorion-grand-opening-09-20-2013-691
END:VEVENT

END:VCALENDAR
