BEGIN:VCALENDAR
VERSION:2.0
PRODID:-//ChamberMaster//Event Calendar 2.0//EN
METHOD:PUBLISH
X-PUBLISHED-TTL:P3D
REFRESH-INTERVAL:P3D
CALSCALE:GREGORIAN
BEGIN:VEVENT
DTSTART:20140514T210000Z
DTEND:20140514T213000Z
X-MICROSOFT-CDO-ALLDAYEVENT:FALSE
SUMMARY:Barley and Rye Bistro Ribbon Cutting
DESCRIPTION:Barley and Rye Bistro\, located at 1320 5th Ave. in Moline\, will celebrate the opening of their restaurant on Wednesday\, May 14th at 4:00pm.  http://mapq.st/1iG4qC7  Barley and Rye Bistro is a farm-to-table restaurant that uses as much fresh\, local food as possible. All food is prepared in house and is made from scratch.  Barley and Rye is also known for their extensive supply of over 100 unique bourbons.  The restaurant first opened  its doors back in October of 2013.  For more information\, please visit www.barleyrye.com.  Light refreshments will be served. Adam Holland\, Moline Centre Main Street Director\, will be speaking on behalf of the Quad Cities Chamber of Commerce.
X-ALT-DESC;FMTTYPE=text/html:<FONT face=Calibri><P style="MARGIN: 0in 0in 0pt" class=MsoNormal></P><?xml:namespace prefix = o ns = "urn:schemas-microsoft-com:office:office" /><o:p><P style="MARGIN: 0in 0in 0pt" class=MsoNormal>Barley and Rye Bistro\, located at 1320 5<SUP>th</SUP> Ave. in Moline\, will celebrate the opening of their restaurant on Wednesday\, May 14<SUP>th</SUP> at 4:00pm.<SPAN style="mso-spacerun: yes">&nbsp\; </SPAN><A href="http://mapq.st/1iG4qC7"><FONT color=#0000ff face="Times New Roman">http://mapq.st/1iG4qC7</FONT></A> <o:p></o:p></P><P style="MARGIN: 0in 0in 0pt" class=MsoNormal><o:p>&nbsp\;</o:p></P><P style="MARGIN: 0in 0in 0pt" class=MsoNormal>Barley and Rye Bistro is a farm-to-table restaurant that uses as much fresh\, local food as possible. All food is prepared in house and is made from scratch.<SPAN style="mso-spacerun: yes">&nbsp\; </SPAN>Barley and Rye is also known for their extensive supply of over 100 unique bourbons.<SPAN style="mso-spacerun: yes">&nbsp\; </SPAN>The restaurant first opened<SPAN style="mso-spacerun: yes">&nbsp\; </SPAN>its doors back in October of 2013. <o:p></o:p></P><P style="MARGIN: 0in 0in 0pt" class=MsoNormal><o:p>&nbsp\;</o:p></P><P style="MARGIN: 0in 0in 0pt" class=MsoNormal>For more information\, please visit <A href="http://www.barleyrye.com"><FONT color=#0000ff face="Times New Roman">www.barleyrye.com</FONT></A>.<SPAN style="mso-spacerun: yes">&nbsp\; </SPAN>Light refreshments will be served.<o:p></o:p></P><P style="MARGIN: 0in 0in 0pt" class=MsoNormal><o:p>&nbsp\;</o:p></P><P style="MARGIN: 0in 0in 0pt" class=MsoNormal>Adam Holland\, Moline Centre Main Street Director\, will be speaking on behalf of the Quad Cities Chamber of Commerce. <o:p></o:p></P><P style="MARGIN: 0in 0in 0pt" class=MsoNormal></o:p></P><P></FONT></P><P></P>
LOCATION:Barley & Rye1320 5th Ave. Moline\, IL 61265
UID:e.2843.797
SEQUENCE:3
DTSTAMP:20260422T093551Z
URL:https://member.quadcitieschamber.com/events/details/barley-and-rye-bistro-ribbon-cutting-05-14-2014-797
END:VEVENT

END:VCALENDAR
